Workbook
Name PartnerName: #REF!
Name PartnerName: #REF!

Sheet Effort, costs
A1: # | B1: Name | C1: Monthly rate | D1: Funding rate | F1: Effort (PM) | G1: WP1 | H1: WP2 | I1: WP3 | J1: WP4 | K1: WP5 | L1: WP6 | M1: WP7 | N1: WP8 | O1: Total | P1: Share | S1: Personnel Cost (€) | T1: WP1 | U1: WP2 | V1: WP3 | W1: WP4 | X1: WP5 | Y1: WP6 | Z1: WP7 | AA1: WP8 | AB1: Partner cost | AC1: Requested | AD1: Share
A2: 1 | B2: WMO | C2: 0 | D2: 1 | F2: =B2 -> WMO | G2: ='Efforts by task'!H3 -> 0 | H2: ='Efforts by task'!N3 -> 0 | I2: ='Efforts by task'!U3 -> 0 | J2: ='Efforts by task'!Z3 -> 0 | K2: ='Efforts by task'!AE3 -> 0 | L2: ='Efforts by task'!AJ3 -> 0 | M2: ='Efforts by task'!AO3 -> 0 | N2: ='Efforts by task'!AS3 -> 0 | O2: =SUM(G2:N2) -> 0 | P2: =O2/$O$22 -> 0 | S2: =B2 -> WMO | T2: =G2*$C2 -> 0 | U2: =H2*$C2 -> 0 | V2: =I2*$C2 -> 0 | W2: =J2*$C2 -> 0 | X2: =K2*$C2 -> 0 | Y2: =L2*$C2 -> 0 | Z2: =M2*$C2 -> 0 | AA2: =N2*$C2 -> 0 | AB2: =SUM(T2:AA2) -> 0 | AC2: =AB2*D2 -> 0 | AD2: =AB2/$AB$22 -> 0
A3: 2 | B3: BSC | C3: 4500 | D3: 1 | F3: =B3 -> BSC | G3: =28 -> 28 | H3: 10 | I3: 0 | J3: 26 | K3: 58 | L3: 18 | M3: 0 | N3: 2 | O3: =SUM(G3:N3) -> 142 | P3: =O3/$O$22 -> 1 | S3: =B3 -> BSC | T3: =G3*$C3 -> 126000 | U3: =H3*$C3 -> 45000 | V3: =I3*$C3 -> 0 | W3: =J3*$C3 -> 117000 | X3: =K3*$C3 -> 261000 | Y3: =L3*$C3 -> 81000 | Z3: =M3*$C3 -> 0 | AA3: =N3*$C3 -> 9000 | AB3: =SUM(T3:AA3) -> 639000 | AC3: =AB3*D3 -> 639000 | AD3: =AB3/$AB$22 -> 1
A4: 3 | B4: MettOffice | C4: 0 | D4: 1 | F4: =B4 -> MettOffice | G4: ='Efforts by task'!H5 -> 0 | H4: ='Efforts by task'!N5 -> 0 | I4: ='Efforts by task'!U5 -> 0 | J4: ='Efforts by task'!Z5 -> 0 | K4: ='Efforts by task'!AE5 -> 0 | L4: ='Efforts by task'!AJ5 -> 0 | M4: ='Efforts by task'!AO5 -> 0 | N4: ='Efforts by task'!AS5 -> 0 | O4: =SUM(G4:N4) -> 0 | P4: =O4/$O$22 -> 0 | S4: =B4 -> MettOffice | T4: =G4*$C4 -> 0 | U4: =H4*$C4 -> 0 | V4: =I4*$C4 -> 0 | W4: =J4*$C4 -> 0 | X4: =K4*$C4 -> 0 | Y4: =L4*$C4 -> 0 | Z4: =M4*$C4 -> 0 | AA4: =N4*$C4 -> 0 | AB4: =SUM(T4:AA4) -> 0 | AC4: =AB4*D4 -> 0 | AD4: =AB4/$AB$22 -> 0
A5: 4 | B5: WEMC | C5: 0 | D5: 1 | F5: =B5 -> WEMC | G5: ='Efforts by task'!H6 -> 0 | H5: ='Efforts by task'!N6 -> 0 | I5: ='Efforts by task'!U6 -> 0 | J5: ='Efforts by task'!Z6 -> 0 | K5: ='Efforts by task'!AE6 -> 0 | L5: ='Efforts by task'!AJ6 -> 0 | M5: ='Efforts by task'!AO6 -> 0 | N5: ='Efforts by task'!AS6 -> 0 | O5: =SUM(G5:N5) -> 0 | P5: =O5/$O$22 -> 0 | S5: =B5 -> WEMC | T5: =G5*$C5 -> 0 | U5: =H5*$C5 -> 0 | V5: =I5*$C5 -> 0 | W5: =J5*$C5 -> 0 | X5: =K5*$C5 -> 0 | Y5: =L5*$C5 -> 0 | Z5: =M5*$C5 -> 0 | AA5: =N5*$C5 -> 0 | AB5: =SUM(T5:AA5) -> 0 | AC5: =AB5*D5 -> 0 | AD5: =AB5/$AB$22 -> 0
A6: 5 | B6: SADC CSC | C6: 0 | D6: 1 | F6: =B6 -> SADC CSC | G6: ='Efforts by task'!H7 -> 0 | H6: ='Efforts by task'!N7 -> 0 | I6: ='Efforts by task'!U7 -> 0 | J6: ='Efforts by task'!Z7 -> 0 | K6: ='Efforts by task'!AE7 -> 0 | L6: ='Efforts by task'!AJ7 -> 0 | M6: ='Efforts by task'!AO7 -> 0 | N6: ='Efforts by task'!AS7 -> 0 | O6: =SUM(G6:N6) -> 0 | P6: =O6/$O$22 -> 0 | S6: =B6 -> SADC CSC | T6: =G6*$C6 -> 0 | U6: =H6*$C6 -> 0 | V6: =I6*$C6 -> 0 | W6: =J6*$C6 -> 0 | X6: =K6*$C6 -> 0 | Y6: =L6*$C6 -> 0 | Z6: =M6*$C6 -> 0 | AA6: =N6*$C6 -> 0 | AB6: =SUM(T6:AA6) -> 0 | AC6: =AB6*D6 -> 0 | AD6: =AB6/$AB$22 -> 0
A7: 6 | B7: EDF | C7: 0 | D7: 1 | F7: =B7 -> EDF | G7: ='Efforts by task'!H8 -> 0 | H7: ='Efforts by task'!N8 -> 0 | I7: ='Efforts by task'!U8 -> 0 | J7: ='Efforts by task'!Z8 -> 0 | K7: ='Efforts by task'!AE8 -> 0 | L7: ='Efforts by task'!AJ8 -> 0 | M7: ='Efforts by task'!AO8 -> 0 | N7: ='Efforts by task'!AS8 -> 0 | O7: =SUM(G7:N7) -> 0 | P7: =O7/$O$22 -> 0 | S7: =B7 -> EDF | T7: =G7*$C7 -> 0 | U7: =H7*$C7 -> 0 | V7: =I7*$C7 -> 0 | W7: =J7*$C7 -> 0 | X7: =K7*$C7 -> 0 | Y7: =L7*$C7 -> 0 | Z7: =M7*$C7 -> 0 | AA7: =N7*$C7 -> 0 | AB7: =SUM(T7:AA7) -> 0 | AC7: =AB7*D7 -> 0 | AD7: =AB7/$AB$22 -> 0
A8: 7 | B8: ACMAD | C8: 5366.84 | D8: 1 | F8: =B8 -> ACMAD | G8: ='Efforts by task'!H9 -> 0 | H8: 0 | I8: 0 | J8: 0 | K8: ='Efforts by task'!AE9 -> 0 | L8: ='Efforts by task'!AJ9 -> 0 | M8: ='Efforts by task'!AO9 -> 0 | N8: ='Efforts by task'!AS9 -> 0 | O8: =SUM(G8:N8) -> 0 | P8: =O8/$O$22 -> 0 | S8: =B8 -> ACMAD | T8: =G8*$C8 -> 0 | U8: =H8*$C8 -> 0 | V8: =I8*$C8 -> 0 | W8: =J8*$C8 -> 0 | X8: =K8*$C8 -> 0 | Y8: =L8*$C8 -> 0 | Z8: =M8*$C8 -> 0 | AA8: =N8*$C8 -> 0 | AB8: =SUM(T8:AA8) -> 0 | AC8: =AB8*D8 -> 0 | AD8: =AB8/$AB$22 -> 0
A9: 8 | B9: CSIR | C9: 0 | D9: 1 | F9: =B9 -> CSIR | G9: ='Efforts by task'!H10 -> 0 | H9: ='Efforts by task'!N10 -> 0 | I9: ='Efforts by task'!U10 -> 0 | J9: ='Efforts by task'!Z10 -> 0 | K9: ='Efforts by task'!AE10 -> 0 | L9: ='Efforts by task'!AJ10 -> 0 | M9: ='Efforts by task'!AO10 -> 0 | N9: ='Efforts by task'!AS10 -> 0 | O9: =SUM(G9:N9) -> 0 | P9: =O9/$O$22 -> 0 | S9: =B9 -> CSIR | T9: =G9*$C9 -> 0 | U9: =H9*$C9 -> 0 | V9: =I9*$C9 -> 0 | W9: =J9*$C9 -> 0 | X9: =K9*$C9 -> 0 | Y9: =L9*$C9 -> 0 | Z9: =M9*$C9 -> 0 | AA9: =N9*$C9 -> 0 | AB9: =SUM(T9:AA9) -> 0 | AC9: =AB9*D9 -> 0 | AD9: =AB9/$AB$22 -> 0
A10: 9 | B10: LGI | C10: 6500 | D10: 1 | F10: =B10 -> LGI | G10: ='Efforts by task'!H11 -> 0 | H10: ='Efforts by task'!N11 -> 0 | I10: ='Efforts by task'!U11 -> 0 | J10: ='Efforts by task'!Z11 -> 0 | K10: ='Efforts by task'!AE11 -> 0 | L10: ='Efforts by task'!AJ11 -> 0 | M10: ='Efforts by task'!AO11 -> 0 | N10: ='Efforts by task'!AS11 -> 0 | O10: =SUM(G10:N10) -> 0 | P10: =O10/$O$22 -> 0 | S10: =B10 -> LGI | T10: =G10*$C10 -> 0 | U10: =H10*$C10 -> 0 | V10: =I10*$C10 -> 0 | W10: =J10*$C10 -> 0 | X10: =K10*$C10 -> 0 | Y10: =L10*$C10 -> 0 | Z10: =M10*$C10 -> 0 | AA10: =N10*$C10 -> 0 | AB10: =SUM(T10:AA10) -> 0 | AC10: =AB10*D10 -> 0 | AD10: =AB10/$AB$22 -> 0
A11: 10 | B11: WITS University | C11: 0 | D11: 1 | F11: =B11 -> WITS University | G11: ='Efforts by task'!H12 -> 0 | H11: ='Efforts by task'!N12 -> 0 | I11: ='Efforts by task'!U12 -> 0 | J11: ='Efforts by task'!Z12 -> 0 | K11: ='Efforts by task'!AE12 -> 0 | L11: ='Efforts by task'!AJ12 -> 0 | M11: ='Efforts by task'!AO12 -> 0 | N11: ='Efforts by task'!AS12 -> 0 | O11: =SUM(G11:N11) -> 0 | P11: =O11/$O$22 -> 0 | S11: =B11 -> WITS University | T11: =G11*$C11 -> 0 | U11: =H11*$C11 -> 0 | V11: =I11*$C11 -> 0 | W11: =J11*$C11 -> 0 | X11: =K11*$C11 -> 0 | Y11: =L11*$C11 -> 0 | Z11: =M11*$C11 -> 0 | AA11: =N11*$C11 -> 0 | AB11: =SUM(T11:AA11) -> 0 | AC11: =AB11*D11 -> 0 | AD11: =AB11/$AB$22 -> 0
A12: 11 | B12: UCT | C12: 0 | D12: 1 | F12: =B12 -> UCT | G12: ='Efforts by task'!H13 -> 0 | H12: ='Efforts by task'!N13 -> 0 | I12: ='Efforts by task'!U13 -> 0 | J12: ='Efforts by task'!Z13 -> 0 | K12: ='Efforts by task'!AE13 -> 0 | L12: ='Efforts by task'!AJ13 -> 0 | M12: ='Efforts by task'!AO13 -> 0 | N12: ='Efforts by task'!AS13 -> 0 | O12: =SUM(G12:N12) -> 0 | P12: =O12/$O$22 -> 0 | S12: =B12 -> UCT | T12: =G12*$C12 -> 0 | U12: =H12*$C12 -> 0 | V12: =I12*$C12 -> 0 | W12: =J12*$C12 -> 0 | X12: =K12*$C12 -> 0 | Y12: =L12*$C12 -> 0 | Z12: =M12*$C12 -> 0 | AA12: =N12*$C12 -> 0 | AB12: =SUM(T12:AA12) -> 0 | AC12: =AB12*D12 -> 0 | AD12: =AB12/$AB$22 -> 0
A13: 12 | B13: Amigo Climate | C13: 5230 | D13: 1 | F13: =B13 -> Amigo Climate | G13: ='Efforts by task'!H14 -> 0 | H13: 0 | I13: 0 | J13: 0 | K13: 0 | L13: 0 | M13: 0 | N13: ='Efforts by task'!AS14 -> 0 | O13: =SUM(G13:N13) -> 0 | P13: =O13/$O$22 -> 0 | S13: =B13 -> Amigo Climate | T13: =G13*$C13 -> 0 | U13: =H13*$C13 -> 0 | V13: =I13*$C13 -> 0 | W13: =J13*$C13 -> 0 | X13: =K13*$C13 -> 0 | Y13: =L13*$C13 -> 0 | Z13: =M13*$C13 -> 0 | AA13: =N13*$C13 -> 0 | AB13: =SUM(T13:AA13) -> 0 | AC13: =AB13*D13 -> 0 | AD13: =AB13/$AB$22 -> 0
A14: 13 | B14: MMS | C14: 0 | D14: 1 | F14: =B14 -> MMS | G14: ='Efforts by task'!H15 -> 0 | H14: ='Efforts by task'!N15 -> 0 | I14: ='Efforts by task'!U15 -> 0 | J14: ='Efforts by task'!Z15 -> 0 | K14: ='Efforts by task'!AE15 -> 0 | L14: ='Efforts by task'!AJ15 -> 0 | M14: ='Efforts by task'!AO15 -> 0 | N14: ='Efforts by task'!AS15 -> 0 | O14: =SUM(G14:N14) -> 0 | P14: =O14/$O$22 -> 0 | S14: =B14 -> MMS | T14: =G14*$C14 -> 0 | U14: =H14*$C14 -> 0 | V14: =I14*$C14 -> 0 | W14: =J14*$C14 -> 0 | X14: =K14*$C14 -> 0 | Y14: =L14*$C14 -> 0 | Z14: =M14*$C14 -> 0 | AA14: =N14*$C14 -> 0 | AB14: =SUM(T14:AA14) -> 0 | AC14: =AB14*D14 -> 0 | AD14: =AB14/$AB$22 -> 0
A15: 14 | B15: TMA | C15: 0 | D15: 1 | F15: =B15 -> TMA | G15: ='Efforts by task'!H16 -> 0 | H15: ='Efforts by task'!N16 -> 0 | I15: ='Efforts by task'!U16 -> 0 | J15: ='Efforts by task'!Z16 -> 0 | K15: ='Efforts by task'!AE16 -> 0 | L15: ='Efforts by task'!AJ16 -> 0 | M15: ='Efforts by task'!AO16 -> 0 | N15: ='Efforts by task'!AS16 -> 0 | O15: =SUM(G15:N15) -> 0 | P15: =O15/$O$22 -> 0 | S15: =B15 -> TMA | T15: =G15*$C15 -> 0 | U15: =H15*$C15 -> 0 | V15: =I15*$C15 -> 0 | W15: =J15*$C15 -> 0 | X15: =K15*$C15 -> 0 | Y15: =L15*$C15 -> 0 | Z15: =M15*$C15 -> 0 | AA15: =N15*$C15 -> 0 | AB15: =SUM(T15:AA15) -> 0 | AC15: =AB15*D15 -> 0 | AD15: =AB15/$AB$22 -> 0
A16: 15 | B16: JRC-Ispra | C16: 0 | D16: 1 | F16: =B16 -> JRC-Ispra | G16: ='Efforts by task'!H17 -> 0 | H16: ='Efforts by task'!N17 -> 0 | I16: ='Efforts by task'!U17 -> 0 | J16: ='Efforts by task'!Z17 -> 0 | K16: ='Efforts by task'!AE17 -> 0 | L16: ='Efforts by task'!AJ17 -> 0 | M16: ='Efforts by task'!AO17 -> 0 | N16: ='Efforts by task'!AS17 -> 0 | O16: =SUM(G16:N16) -> 0 | P16: =O16/$O$22 -> 0 | S16: =B16 -> JRC-Ispra | T16: =G16*$C16 -> 0 | U16: =H16*$C16 -> 0 | V16: =I16*$C16 -> 0 | W16: =J16*$C16 -> 0 | X16: =K16*$C16 -> 0 | Y16: =L16*$C16 -> 0 | Z16: =M16*$C16 -> 0 | AA16: =N16*$C16 -> 0 | AB16: =SUM(T16:AA16) -> 0 | AC16: =AB16*D16 -> 0 | AD16: =AB16/$AB$22 -> 0
A17: 16 | B17: SSA | C17: 0 | D17: 1 | F17: =B17 -> SSA | G17: ='Efforts by task'!H18 -> 0 | H17: 0 | I17: ='Efforts by task'!U18 -> 0 | J17: ='Efforts by task'!Z18 -> 0 | K17: ='Efforts by task'!AE18 -> 0 | L17: ='Efforts by task'!AJ18 -> 0 | M17: ='Efforts by task'!AO18 -> 0 | N17: ='Efforts by task'!AS18 -> 0 | O17: =SUM(G17:N17) -> 0 | P17: =O17/$O$22 -> 0 | S17: =B17 -> SSA | T17: =G17*$C17 -> 0 | U17: =H17*$C17 -> 0 | V17: =I17*$C17 -> 0 | W17: =J17*$C17 -> 0 | X17: =K17*$C17 -> 0 | Y17: =L17*$C17 -> 0 | Z17: =M17*$C17 -> 0 | AA17: =N17*$C17 -> 0 | AB17: =SUM(T17:AA17) -> 0 | AC17: =AB17*D17 -> 0 | AD17: =AB17/$AB$22 -> 0
A18: 17 | B18: Plan Italia | C18: 0 | D18: 1 | F18: =B18 -> Plan Italia | G18: ='Efforts by task'!H19 -> 0 | H18: ='Efforts by task'!N19 -> 0 | I18: ='Efforts by task'!U19 -> 0 | J18: ='Efforts by task'!Z19 -> 0 | K18: ='Efforts by task'!AE19 -> 0 | L18: ='Efforts by task'!AJ19 -> 0 | M18: ='Efforts by task'!AO19 -> 0 | N18: ='Efforts by task'!AS19 -> 0 | O18: =SUM(G18:N18) -> 0 | P18: =O18/$O$22 -> 0 | S18: =B18 -> Plan Italia | T18: =G18*$C18 -> 0 | U18: =H18*$C18 -> 0 | V18: =I18*$C18 -> 0 | W18: =J18*$C18 -> 0 | X18: =K18*$C18 -> 0 | Y18: =L18*$C18 -> 0 | Z18: =M18*$C18 -> 0 | AA18: =N18*$C18 -> 0 | AB18: =SUM(T18:AA18) -> 0 | AC18: =AB18*D18 -> 0 | AD18: =AB18/$AB$22 -> 0
A19: 18 | B19: COWI | C19: 0 | D19: 1 | F19: =B19 -> COWI | G19: ='Efforts by task'!H20 -> 0 | H19: ='Efforts by task'!N20 -> 0 | I19: ='Efforts by task'!U20 -> 0 | J19: ='Efforts by task'!Z20 -> 0 | K19: ='Efforts by task'!AE20 -> 0 | L19: ='Efforts by task'!AJ20 -> 0 | M19: ='Efforts by task'!AO20 -> 0 | N19: ='Efforts by task'!AS20 -> 0 | O19: =SUM(G19:N19) -> 0 | P19: =O19/$O$22 -> 0 | S19: =B19 -> COWI | T19: =G19*$C19 -> 0 | U19: =H19*$C19 -> 0 | V19: =I19*$C19 -> 0 | W19: =J19*$C19 -> 0 | X19: =K19*$C19 -> 0 | Y19: =L19*$C19 -> 0 | Z19: =M19*$C19 -> 0 | AA19: =N19*$C19 -> 0 | AB19: =SUM(T19:AA19) -> 0 | AC19: =AB19*D19 -> 0 | AD19: =AB19/$AB$22 -> 0
A20: 19 | B20: DCCMS | C20: 0 | D20: 1 | F20: =B20 -> DCCMS | G20: ='Efforts by task'!H21 -> 0 | H20: ='Efforts by task'!N21 -> 0 | I20: ='Efforts by task'!U21 -> 0 | J20: ='Efforts by task'!Z21 -> 0 | K20: ='Efforts by task'!AE21 -> 0 | L20: ='Efforts by task'!AJ21 -> 0 | M20: ='Efforts by task'!AO21 -> 0 | N20: ='Efforts by task'!AS21 -> 0 | O20: =SUM(G20:N20) -> 0 | P20: =O20/$O$22 -> 0 | S20: =B20 -> DCCMS | T20: =G20*$C20 -> 0 | U20: =H20*$C20 -> 0 | V20: =I20*$C20 -> 0 | W20: =J20*$C20 -> 0 | X20: =K20*$C20 -> 0 | Y20: =L20*$C20 -> 0 | Z20: =M20*$C20 -> 0 | AA20: =N20*$C20 -> 0 | AB20: =SUM(T20:AA20) -> 0 | AC20: =AB20*D20 -> 0 | AD20: =AB20/$AB$22 -> 0
A21: 20 | B21: Landbank | C21: 0 | D21: 1 | F21: =B21 -> Landbank | G21: ='Efforts by task'!H22 -> 0 | H21: ='Efforts by task'!N22 -> 0 | I21: ='Efforts by task'!U22 -> 0 | J21: ='Efforts by task'!Z22 -> 0 | K21: ='Efforts by task'!AE22 -> 0 | L21: ='Efforts by task'!AJ22 -> 0 | M21: ='Efforts by task'!AO22 -> 0 | N21: ='Efforts by task'!AS22 -> 0 | O21: =SUM(G21:N21) -> 0 | P21: =O21/$O$22 -> 0 | S21: =B21 -> Landbank | T21: =G21*$C21 -> 0 | U21: =H21*$C21 -> 0 | V21: =I21*$C21 -> 0 | W21: =J21*$C21 -> 0 | X21: =K21*$C21 -> 0 | Y21: =L21*$C21 -> 0 | Z21: =M21*$C21 -> 0 | AA21: =N21*$C21 -> 0 | AB21: =SUM(T21:AA21) -> 0 | AC21: =AB21*D21 -> 0 | AD21: =AB21/$AB$22 -> 0
F22: Total effort | G22: =SUM(G2:G21) -> 28 | H22: =SUM(H2:H21) -> 10 | I22: =SUM(I2:I21) -> 0 | J22: =SUM(J2:J21) -> 26 | K22: =SUM(K2:K21) -> 58 | L22: =SUM(L2:L21) -> 18 | M22: =SUM(M2:M21) -> 0 | N22: =SUM(N2:N21) -> 2 | O22: =SUM(O2:O21) -> 142 | S22: Total cost | T22: =SUM(T2:T21) -> 126000 | U22: =SUM(U2:U21) -> 45000 | V22: =SUM(V2:V21) -> 0 | W22: =SUM(W2:W21) -> 117000 | X22: =SUM(X2:X21) -> 261000 | Y22: =SUM(Y2:Y21) -> 81000 | Z22: =SUM(Z2:Z21) -> 0 | AA22: =SUM(AA2:AA21) -> 9000 | ... AC22: =SUM(AC2:AC21) -> 639000 | AD22: =AC22/AC94 -> 0.72613636
F23: WP share | G23: =G22/$O$22 -> 0.1971831 | H23: =H22/$O$22 -> 0.070422535 | I23: =I22/$O$22 -> 0 | J23: =J22/$O$22 -> 0.18309859 | K23: =K22/$O$22 -> 0.4084507 | L23: =L22/$O$22 -> 0.12676056 | M23: =M22/$O$22 -> 0 | N23: =N22/$O$22 -> 0.014084507 | S23: WP share | T23: =T22/$AB$22 -> 0.1971831 | U23: =U22/$AB$22 -> 0.070422535 | V23: =V22/$AB$22 -> 0 | W23: =W22/$AB$22 -> 0.18309859 | X23: =X22/$AB$22 -> 0.4084507 | Y23: =Y22/$AB$22 -> 0.12676056 | Z23: =Z22/$AB$22 -> 0 | AA23: =AA22/$AB$22 -> 0.014084507
B24: 48 months
B25: TOTAL Figures to include | F25: Subcontracting (€) | G25: WP1 | H25: WP2 | I25: WP3 | J25: WP4 | K25: WP5 | L25: WP6 | M25: WP7 | N25: WP8 | O25: Total | P25: Requested | S25: Other direct costs (€) | T25: WP1 | U25: WP2 | V25: WP3 | W25: WP4 | X25: WP5 | Y25: WP6 | Z25: WP7 | AA25: WP8 | AB25: Partner ODC | AC25: Requested | AD25: ODC share
B26: MettOffice | C26: 50PM | D26: 470000 | F26: =B2 -> WMO | G26: 0 | H26: 0 | I26: 0 | J26: 0 | K26: 0 | L26: 0 | M26: 0 | N26: 0 | O26: =SUM(G26:N26) -> 0 | P26: =O26*D2 -> 0 | S26: =B2 -> WMO | AB26: =SUM(T26:AA26) -> 0 | AC26: =AB26*D2 -> 0 | AD26: =AC26/AC2 -> #DIV/0! | AE26: =IF(AD26>=0.15, "Provide details", "") -> #DIV/0!
B27: WEMC | D27: 400000 | F27: =B3 -> BSC | G27: 0 | H27: 0 | I27: 0 | J27: 0 | K27: 0 | L27: 0 | M27: 0 | N27: 0 | O27: =SUM(G27:N27) -> 0 | P27: =O27*D3 -> 0 | S27: =B3 -> BSC | AA27: =50000+12000+3000 -> 65000 | AB27: =SUM(T27:AA27) -> 65000 | AC27: =AB27*D3 -> 65000 | AD27: =AC27/AC3 -> 0.10172144 | AE27: travel, equipment, publication audit cost
B28: SADC | D28: 300000 | F28: =B4 -> MettOffice | G28: 0 | H28: 0 | I28: 0 | J28: 0 | K28: 0 | L28: 0 | M28: 0 | N28: 0 | O28: =SUM(G28:N28) -> 0 | P28: =O28*D4 -> 0 | S28: =B4 -> MettOffice | AB28: =SUM(T28:AA28) -> 0 | AC28: =AB28*D4 -> 0 | AD28: =AC28/AC4 -> #DIV/0! | AE28: =IF(AD28>=0.15, "Provide details", "") -> #DIV/0!
B29: JRC | C29: 40PM | D29: 500000 | F29: =B5 -> WEMC | G29: 0 | H29: 0 | I29: 0 | J29: 0 | K29: 0 | L29: 0 | M29: 0 | N29: 0 | O29: =SUM(G29:N29) -> 0 | P29: =O29*D5 -> 0 | S29: =B5 -> WEMC | AB29: =SUM(T29:AA29) -> 0 | AC29: =AB29*D5 -> 0 | AD29: =AC29/AC5 -> #DIV/0! | AE29: =IF(AD29>=0.15, "Provide details", "") -> #DIV/0!
B30: COWI | C30: 24PM | D30: 150000 | F30: =B6 -> SADC CSC | G30: 0 | H30: 0 | I30: 0 | J30: 0 | K30: 0 | L30: 0 | M30: 0 | N30: 0 | O30: =SUM(G30:N30) -> 0 | P30: =O30*D6 -> 0 | S30: =B6 -> SADC CSC | AB30: =SUM(T30:AA30) -> 0 | AC30: =AB30*D6 -> 0 | AD30: =AC30/AC6 -> #DIV/0! | AE30: =IF(AD30>=0.15, "Provide details", "") -> #DIV/0!
B31: SSA | C31: 60PM | D31: 500000 | F31: =B7 -> EDF | G31: 0 | H31: 0 | I31: 0 | J31: 0 | K31: 0 | L31: 0 | M31: 0 | N31: 0 | O31: =SUM(G31:N31) -> 0 | P31: =O31*D7 -> 0 | S31: =B7 -> EDF | AB31: =SUM(T31:AA31) -> 0 | AC31: =AB31*D7 -> 0 | AD31: =AC31/AC7 -> #DIV/0! | AE31: =IF(AD31>=0.15, "Provide details", "") -> #DIV/0!
B32: WITS | D32: 53000 | F32: =B8 -> ACMAD | G32: 0 | H32: 0 | I32: 0 | J32: 0 | K32: 0 | L32: 0 | M32: 0 | N32: 0 | O32: =SUM(G32:N32) -> 0 | P32: =O32*D8 -> 0 | S32: =B8 -> ACMAD | AB32: =SUM(T32:AA32) -> 0 | AC32: =AB32*D8 -> 0 | AD32: =AC32/AC8 -> #DIV/0! | AE32: =IF(AD32>=0.15, "Provide details", "") -> #DIV/0!
B33: ACMAD | C33: 134,4PM | D33: 614167.19 | F33: =B9 -> CSIR | G33: 0 | H33: 0 | I33: 0 | J33: 0 | K33: 0 | L33: 0 | M33: 0 | N33: 0 | O33: =SUM(G33:N33) -> 0 | P33: =O33*D9 -> 0 | S33: =B9 -> CSIR | AB33: =SUM(T33:AA33) -> 0 | AC33: =AB33*D9 -> 0 | AD33: =AC33/AC9 -> #DIV/0! | AE33: =IF(AD33>=0.15, "Provide details", "") -> #DIV/0!
B34: BSC | C34: 142PM | D34: 880000 | F34: =B10 -> LGI | G34: 0 | H34: 0 | I34: 0 | J34: 0 | K34: 0 | L34: 0 | M34: 0 | N34: 0 | O34: =SUM(G34:N34) -> 0 | P34: =O34*D10 -> 0 | S34: =B10 -> LGI | AB34: =SUM(T34:AA34) -> 0 | AC34: =AB34*D10 -> 0 | AD34: =AC34/AC10 -> #DIV/0! | AE34: =IF(AD34>=0.15, "Provide details", "") -> #DIV/0!
B35: LGI | C35: 68PM | F35: =B11 -> WITS University | G35: 0 | H35: 0 | I35: 0 | J35: 0 | K35: 0 | L35: 0 | M35: 0 | N35: 0 | O35: =SUM(G35:N35) -> 0 | P35: =O35*D11 -> 0 | S35: =B11 -> WITS University | AB35: =SUM(T35:AA35) -> 0 | AC35: =AB35*D11 -> 0 | AD35: =AC35/AC11 -> #DIV/0! | AE35: =IF(AD35>=0.15, "Provide details", "") -> #DIV/0!
B36: AMIGO Climate | C36: 66PM | F36: =B12 -> UCT | G36: 0 | H36: 0 | I36: 0 | J36: 0 | K36: 0 | L36: 0 | M36: 0 | N36: 0 | O36: =SUM(G36:N36) -> 0 | P36: =O36*D12 -> 0 | S36: =B12 -> UCT | AB36: =SUM(T36:AA36) -> 0 | AC36: =AB36*D12 -> 0 | AD36: =AC36/AC12 -> #DIV/0! | AE36: =IF(AD36>=0.15, "Provide details", "") -> #DIV/0!
F37: =B13 -> Amigo Climate | G37: 0 | H37: 0 | I37: 0 | J37: 0 | K37: 0 | L37: 0 | M37: 0 | N37: 0 | O37: =SUM(G37:N37) -> 0 | P37: =O37*D13 -> 0 | S37: =B13 -> Amigo Climate | V37: 0 | W37: 0 | X37: 0 | AB37: =SUM(T37:AA37) -> 0 | AC37: =AB37*D13 -> 0 | AD37: =AC37/AC13 -> #DIV/0! | AE37: travel, equipment, publication audit cost cloud system
F38: =B14 -> MMS | G38: 0 | H38: 0 | I38: 0 | J38: 0 | K38: 0 | L38: 0 | M38: 0 | N38: 0 | O38: =SUM(G38:N38) -> 0 | P38: =O38*D14 -> 0 | S38: =B14 -> MMS | AB38: =SUM(T38:AA38) -> 0 | AC38: =AB38*D14 -> 0 | AD38: =AC38/AC14 -> #DIV/0! | AE38: =IF(AD38>=0.15, "Provide details", "") -> #DIV/0!
F39: =B15 -> TMA | G39: 0 | H39: 0 | I39: 0 | J39: 0 | K39: 0 | L39: 0 | M39: 0 | N39: 0 | O39: =SUM(G39:N39) -> 0 | P39: =O39*D15 -> 0 | S39: =B15 -> TMA | AB39: =SUM(T39:AA39) -> 0 | AC39: =AB39*D15 -> 0 | AD39: =AC39/AC15 -> #DIV/0! | AE39: =IF(AD39>=0.15, "Provide details", "") -> #DIV/0!
F40: =B16 -> JRC-Ispra | G40: 0 | H40: 0 | I40: 0 | J40: 0 | K40: 0 | L40: 0 | M40: 0 | N40: 0 | O40: =SUM(G40:N40) -> 0 | P40: =O40*D16 -> 0 | S40: =B16 -> JRC-Ispra | AB40: =SUM(T40:AA40) -> 0 | AC40: =AB40*D16 -> 0 | AD40: =AC40/AC16 -> #DIV/0! | AE40: =IF(AD40>=0.15, "Provide details", "") -> #DIV/0!
F41: =B17 -> SSA | G41: 0 | H41: 0 | I41: 0 | J41: 0 | K41: 0 | L41: 0 | M41: 0 | N41: 0 | O41: =SUM(G41:N41) -> 0 | P41: =O41*D17 -> 0 | S41: =B17 -> SSA | AB41: =SUM(T41:AA41) -> 0 | AC41: =AB41*D17 -> 0 | AD41: =AC41/AC17 -> #DIV/0! | AE41: =IF(AD41>=0.15, "Provide details", "") -> #DIV/0!
F42: =B18 -> Plan Italia | G42: 0 | H42: 0 | I42: 0 | J42: 0 | K42: 0 | L42: 0 | M42: 0 | N42: 0 | O42: =SUM(G42:N42) -> 0 | P42: =O42*D18 -> 0 | S42: =B18 -> Plan Italia | AB42: =SUM(T42:AA42) -> 0 | AC42: =AB42*D18 -> 0 | AD42: =AC42/AC18 -> #DIV/0! | AE42: =IF(AD42>=0.15, "Provide details", "") -> #DIV/0!
F43: =B19 -> COWI | G43: 0 | H43: 0 | I43: 0 | J43: 0 | K43: 0 | L43: 0 | M43: 0 | N43: 0 | O43: =SUM(G43:N43) -> 0 | P43: =O43*D19 -> 0 | S43: =B19 -> COWI | AB43: =SUM(T43:AA43) -> 0 | AC43: =AB43*D19 -> 0 | AD43: =AC43/AC19 -> #DIV/0! | AE43: =IF(AD43>=0.15, "Provide details", "") -> #DIV/0!
F44: =B20 -> DCCMS | G44: 0 | H44: 0 | I44: 0 | J44: 0 | K44: 0 | L44: 0 | M44: 0 | N44: 0 | O44: =SUM(G44:N44) -> 0 | P44: =O44*D20 -> 0 | S44: =B20 -> DCCMS | AB44: =SUM(T44:AA44) -> 0 | AC44: =AB44*D20 -> 0 | AD44: =AC44/AC20 -> #DIV/0! | AE44: =IF(AD44>=0.15, "Provide details", "") -> #DIV/0!
F45: =B21 -> Landbank | G45: 0 | H45: 0 | I45: 0 | J45: 0 | K45: 0 | L45: 0 | M45: 0 | N45: 0 | O45: =SUM(G45:N45) -> 0 | P45: =O45*D21 -> 0 | S45: =B21 -> Landbank | AB45: =SUM(T45:AA45) -> 0 | AC45: =AB45*D21 -> 0 | AD45: =AC45/AC21 -> #DIV/0! | AE45: =IF(AD45>=0.15, "Provide details", "") -> #DIV/0!
F46: Total | G46: =SUM(G26:G45) -> 0 | H46: =SUM(H26:H45) -> 0 | I46: =SUM(I26:I45) -> 0 | J46: =SUM(J26:J45) -> 0 | K46: =SUM(K26:K45) -> 0 | L46: =SUM(L26:L45) -> 0 | M46: =SUM(M26:M45) -> 0 | N46: =SUM(N26:N45) -> 0 | O46: =SUM(G46:N46) -> 0 | P46: =SUM(P26:P45) -> 0 | S46: Total ODC | T46: =SUM(T26:T45) -> 0 | U46: =SUM(U26:U45) -> 0 | V46: =SUM(V26:V45) -> 0 | W46: =SUM(W26:W45) -> 0 | X46: =SUM(X26:X45) -> 0 | Y46: =SUM(Y26:Y45) -> 0 | Z46: =SUM(Z26:Z45) -> 0 | AA46: =SUM(AA26:AA45) -> 65000 | ... AC46: =SUM(AC26:AC45) -> 65000 | AD46: =AC46/AC94 -> 0.073863636
F47: WP share | G47: =G46/$O$46 -> #DIV/0! | H47: =H46/$O$46 -> #DIV/0! | I47: =I46/$O$46 -> #DIV/0! | J47: =J46/$O$46 -> #DIV/0! | K47: =K46/$O$46 -> #DIV/0! | L47: =L46/$O$46 -> #DIV/0! | M47: =M46/$O$46 -> #DIV/0! | N47: =N46/$O$46 -> #DIV/0! | S47: WP share | T47: =T46/$AB$46 -> 0 | U47: =U46/$AB$46 -> 0 | V47: =V46/$AB$46 -> 0 | W47: =W46/$AB$46 -> 0 | X47: =X46/$AB$46 -> 0 | Y47: =Y46/$AB$46 -> 0 | Z47: =Z46/$AB$46 -> 0 | AA47: =AA46/$AB$46 -> 1
F49: INDIRECT (€) | G49: WP1 | H49: WP2 | I49: WP3 | J49: WP4 | K49: WP5 | L49: WP6 | M49: WP7 | N49: WP8 | O49: Total | P49: Requested | S49: TOTAL DIRECT (€) | T49: WP1 | U49: WP2 | V49: WP3 | W49: WP4 | X49: WP5 | Y49: WP6 | Z49: WP7 | AA49: WP8 | AB49: Total | AC49: Requested | AD49: Share
F50: =B2 -> WMO | G50: =((T2)*0.25)+((T26)*0.25) -> 0 | H50: =((U2)*0.25)+((U26)*0.25) -> 0 | I50: =((V2)*0.25)+((V26)*0.25) -> 0 | J50: =((W2)*0.25)+((W26)*0.25) -> 0 | K50: =((X2)*0.25)+((X26)*0.25) -> 0 | L50: =((Y2)*0.25)+((Y26)*0.25) -> 0 | M50: =((Z2)*0.25)+((Z26)*0.25) -> 0 | N50: =((AA2)*0.25)+((AA26)*0.25) -> 0 | O50: =SUM(G50:N50) -> 0 | P50: =O50*D2 -> 0 | S50: =B2 -> WMO | T50: =T2+T26+G26 -> 0 | U50: =U2+U26+H26 -> 0 | V50: =V2+V26+I26 -> 0 | W50: =W2+W26+J26 -> 0 | X50: =X2+X26+K26 -> 0 | Y50: =Y2+Y26+L26 -> 0 | Z50: =Z2+Z26+M26 -> 0 | AA50: =AA2+AA26+N26 -> 0 | AB50: =AB2+AB26+O26 -> 0 | AC50: =AB50*D2 -> 0 | AD50: =AB50/$AB$70 -> 0 | AE50: =IF(AC50>=325000, "CFS", "")
F51: =B3 -> BSC | G51: =((T3)*0.25)+((T27)*0.25) -> 31500 | H51: =((U3)*0.25)+((U27)*0.25) -> 11250 | I51: =((V3)*0.25)+((V27)*0.25) -> 0 | J51: =((W3)*0.25)+((W27)*0.25) -> 29250 | K51: =((X3)*0.25)+((X27)*0.25) -> 65250 | L51: =((Y3)*0.25)+((Y27)*0.25) -> 20250 | M51: =((Z3)*0.25)+((Z27)*0.25) -> 0 | N51: =((AA3)*0.25)+((AA27)*0.25) -> 18500 | O51: =SUM(G51:N51) -> 176000 | P51: =O51*D3 -> 176000 | S51: =B3 -> BSC | T51: =T3+T27+G27 -> 126000 | U51: =U3+U27+H27 -> 45000 | V51: =V3+V27+I27 -> 0 | W51: =W3+W27+J27 -> 117000 | X51: =X3+X27+K27 -> 261000 | Y51: =Y3+Y27+L27 -> 81000 | Z51: =Z3+Z27+M27 -> 0 | AA51: =AA3+AA27+N27 -> 74000 | AB51: =AB3+AB27+O27 -> 704000 | AC51: =AB51*D3 -> 704000 | AD51: =AB51/$AB$70 -> 1 | AE51: =IF(AC51>=325000, "CFS", "") -> CFS
F52: =B4 -> MettOffice | G52: =((T4)*0.25)+((T28)*0.25) -> 0 | H52: =((U4)*0.25)+((U28)*0.25) -> 0 | I52: =((V4)*0.25)+((V28)*0.25) -> 0 | J52: =((W4)*0.25)+((W28)*0.25) -> 0 | K52: =((X4)*0.25)+((X28)*0.25) -> 0 | L52: =((Y4)*0.25)+((Y28)*0.25) -> 0 | M52: =((Z4)*0.25)+((Z28)*0.25) -> 0 | N52: =((AA4)*0.25)+((AA28)*0.25) -> 0 | O52: =SUM(G52:N52) -> 0 | P52: =O52*D4 -> 0 | S52: =B4 -> MettOffice | T52: =T4+T28+G28 -> 0 | U52: =U4+U28+H28 -> 0 | V52: =V4+V28+I28 -> 0 | W52: =W4+W28+J28 -> 0 | X52: =X4+X28+K28 -> 0 | Y52: =Y4+Y28+L28 -> 0 | Z52: =Z4+Z28+M28 -> 0 | AA52: =AA4+AA28+N28 -> 0 | AB52: =AB4+AB28+O28 -> 0 | AC52: =AB52*D4 -> 0 | AD52: =AB52/$AB$70 -> 0 | AE52: =IF(AC52>=325000, "CFS", "")
F53: =B5 -> WEMC | G53: =((T5)*0.25)+((T29)*0.25) -> 0 | H53: =((U5)*0.25)+((U29)*0.25) -> 0 | I53: =((V5)*0.25)+((V29)*0.25) -> 0 | J53: =((W5)*0.25)+((W29)*0.25) -> 0 | K53: =((X5)*0.25)+((X29)*0.25) -> 0 | L53: =((Y5)*0.25)+((Y29)*0.25) -> 0 | M53: =((Z5)*0.25)+((Z29)*0.25) -> 0 | N53: =((AA5)*0.25)+((AA29)*0.25) -> 0 | O53: =SUM(G53:N53) -> 0 | P53: =O53*D5 -> 0 | S53: =B5 -> WEMC | T53: =T5+T29+G29 -> 0 | U53: =U5+U29+H29 -> 0 | V53: =V5+V29+I29 -> 0 | W53: =W5+W29+J29 -> 0 | X53: =X5+X29+K29 -> 0 | Y53: =Y5+Y29+L29 -> 0 | Z53: =Z5+Z29+M29 -> 0 | AA53: =AA5+AA29+N29 -> 0 | AB53: =AB5+AB29+O29 -> 0 | AC53: =AB53*D5 -> 0 | AD53: =AB53/$AB$70 -> 0 | AE53: =IF(AC53>=325000, "CFS", "")
F54: =B6 -> SADC CSC | G54: =((T6)*0.25)+((T30)*0.25) -> 0 | H54: =((U6)*0.25)+((U30)*0.25) -> 0 | I54: =((V6)*0.25)+((V30)*0.25) -> 0 | J54: =((W6)*0.25)+((W30)*0.25) -> 0 | K54: =((X6)*0.25)+((X30)*0.25) -> 0 | L54: =((Y6)*0.25)+((Y30)*0.25) -> 0 | M54: =((Z6)*0.25)+((Z30)*0.25) -> 0 | N54: =((AA6)*0.25)+((AA30)*0.25) -> 0 | O54: =SUM(G54:N54) -> 0 | P54: =O54*D6 -> 0 | S54: =B6 -> SADC CSC | T54: =T6+T30+G30 -> 0 | U54: =U6+U30+H30 -> 0 | V54: =V6+V30+I30 -> 0 | W54: =W6+W30+J30 -> 0 | X54: =X6+X30+K30 -> 0 | Y54: =Y6+Y30+L30 -> 0 | Z54: =Z6+Z30+M30 -> 0 | AA54: =AA6+AA30+N30 -> 0 | AB54: =AB6+AB30+O30 -> 0 | AC54: =AB54*D6 -> 0 | AD54: =AB54/$AB$70 -> 0 | AE54: =IF(AC54>=325000, "CFS", "")
F55: =B7 -> EDF | G55: =((T7)*0.25)+((T31)*0.25) -> 0 | H55: =((U7)*0.25)+((U31)*0.25) -> 0 | I55: =((V7)*0.25)+((V31)*0.25) -> 0 | J55: =((W7)*0.25)+((W31)*0.25) -> 0 | K55: =((X7)*0.25)+((X31)*0.25) -> 0 | L55: =((Y7)*0.25)+((Y31)*0.25) -> 0 | M55: =((Z7)*0.25)+((Z31)*0.25) -> 0 | N55: =((AA7)*0.25)+((AA31)*0.25) -> 0 | O55: =SUM(G55:N55) -> 0 | P55: =O55*D7 -> 0 | S55: =B7 -> EDF | T55: =T7+T31+G31 -> 0 | U55: =U7+U31+H31 -> 0 | V55: =V7+V31+I31 -> 0 | W55: =W7+W31+J31 -> 0 | X55: =X7+X31+K31 -> 0 | Y55: =Y7+Y31+L31 -> 0 | Z55: =Z7+Z31+M31 -> 0 | AA55: =AA7+AA31+N31 -> 0 | AB55: =AB7+AB31+O31 -> 0 | AC55: =AB55*D7 -> 0 | AD55: =AB55/$AB$70 -> 0 | AE55: =IF(AC55>=325000, "CFS", "")
F56: =B8 -> ACMAD | G56: =((T8)*0.25)+((T32)*0.25) -> 0 | H56: =((U8)*0.25)+((U32)*0.25) -> 0 | I56: =((V8)*0.25)+((V32)*0.25) -> 0 | J56: =((W8)*0.25)+((W32)*0.25) -> 0 | K56: =((X8)*0.25)+((X32)*0.25) -> 0 | L56: =((Y8)*0.25)+((Y32)*0.25) -> 0 | M56: =((Z8)*0.25)+((Z32)*0.25) -> 0 | N56: =((AA8)*0.25)+((AA32)*0.25) -> 0 | O56: =SUM(G56:N56) -> 0 | P56: =O56*D8 -> 0 | S56: =B8 -> ACMAD | T56: =T8+T32+G32 -> 0 | U56: =U8+U32+H32 -> 0 | V56: =V8+V32+I32 -> 0 | W56: =W8+W32+J32 -> 0 | X56: =X8+X32+K32 -> 0 | Y56: =Y8+Y32+L32 -> 0 | Z56: =Z8+Z32+M32 -> 0 | AA56: =AA8+AA32+N32 -> 0 | AB56: =AB8+AB32+O32 -> 0 | AC56: =AB56*D8 -> 0 | AD56: =AB56/$AB$70 -> 0 | AE56: =IF(AC56>=325000, "CFS", "")
F57: =B9 -> CSIR | G57: =((T9)*0.25)+((T33)*0.25) -> 0 | H57: =((U9)*0.25)+((U33)*0.25) -> 0 | I57: =((V9)*0.25)+((V33)*0.25) -> 0 | J57: =((W9)*0.25)+((W33)*0.25) -> 0 | K57: =((X9)*0.25)+((X33)*0.25) -> 0 | L57: =((Y9)*0.25)+((Y33)*0.25) -> 0 | M57: =((Z9)*0.25)+((Z33)*0.25) -> 0 | N57: =((AA9)*0.25)+((AA33)*0.25) -> 0 | O57: =SUM(G57:N57) -> 0 | P57: =O57*D9 -> 0 | S57: =B9 -> CSIR | T57: =T9+T33+G33 -> 0 | U57: =U9+U33+H33 -> 0 | V57: =V9+V33+I33 -> 0 | W57: =W9+W33+J33 -> 0 | X57: =X9+X33+K33 -> 0 | Y57: =Y9+Y33+L33 -> 0 | Z57: =Z9+Z33+M33 -> 0 | AA57: =AA9+AA33+N33 -> 0 | AB57: =AB9+AB33+O33 -> 0 | AC57: =AB57*D9 -> 0 | AD57: =AB57/$AB$70 -> 0 | AE57: =IF(AC57>=325000, "CFS", "")
F58: =B10 -> LGI | G58: =((T10)*0.25)+((T34)*0.25) -> 0 | H58: =((U10)*0.25)+((U34)*0.25) -> 0 | I58: =((V10)*0.25)+((V34)*0.25) -> 0 | J58: =((W10)*0.25)+((W34)*0.25) -> 0 | K58: =((X10)*0.25)+((X34)*0.25) -> 0 | L58: =((Y10)*0.25)+((Y34)*0.25) -> 0 | M58: =((Z10)*0.25)+((Z34)*0.25) -> 0 | N58: =((AA10)*0.25)+((AA34)*0.25) -> 0 | O58: =SUM(G58:N58) -> 0 | P58: =O58*D10 -> 0 | S58: =B10 -> LGI | T58: =T10+T34+G34 -> 0 | U58: =U10+U34+H34 -> 0 | V58: =V10+V34+I34 -> 0 | W58: =W10+W34+J34 -> 0 | X58: =X10+X34+K34 -> 0 | Y58: =Y10+Y34+L34 -> 0 | Z58: =Z10+Z34+M34 -> 0 | AA58: =AA10+AA34+N34 -> 0 | AB58: =AB10+AB34+O34 -> 0 | AC58: =AB58*D10 -> 0 | AD58: =AB58/$AB$70 -> 0 | AE58: =IF(AC58>=325000, "CFS", "")
F59: =B11 -> WITS University | G59: =((T11)*0.25)+((T35)*0.25) -> 0 | H59: =((U11)*0.25)+((U35)*0.25) -> 0 | I59: =((V11)*0.25)+((V35)*0.25) -> 0 | J59: =((W11)*0.25)+((W35)*0.25) -> 0 | K59: =((X11)*0.25)+((X35)*0.25) -> 0 | L59: =((Y11)*0.25)+((Y35)*0.25) -> 0 | M59: =((Z11)*0.25)+((Z35)*0.25) -> 0 | N59: =((AA11)*0.25)+((AA35)*0.25) -> 0 | O59: =SUM(G59:N59) -> 0 | P59: =O59*D11 -> 0 | S59: =B11 -> WITS University | T59: =T11+T35+G35 -> 0 | U59: =U11+U35+H35 -> 0 | V59: =V11+V35+I35 -> 0 | W59: =W11+W35+J35 -> 0 | X59: =X11+X35+K35 -> 0 | Y59: =Y11+Y35+L35 -> 0 | Z59: =Z11+Z35+M35 -> 0 | AA59: =AA11+AA35+N35 -> 0 | AB59: =AB11+AB35+O35 -> 0 | AC59: =AB59*D11 -> 0 | AD59: =AB59/$AB$70 -> 0 | AE59: =IF(AC59>=325000, "CFS", "")
F60: =B12 -> UCT | G60: =((T12)*0.25)+((T36)*0.25) -> 0 | H60: =((U12)*0.25)+((U36)*0.25) -> 0 | I60: =((V12)*0.25)+((V36)*0.25) -> 0 | J60: =((W12)*0.25)+((W36)*0.25) -> 0 | K60: =((X12)*0.25)+((X36)*0.25) -> 0 | L60: =((Y12)*0.25)+((Y36)*0.25) -> 0 | M60: =((Z12)*0.25)+((Z36)*0.25) -> 0 | N60: =((AA12)*0.25)+((AA36)*0.25) -> 0 | O60: =SUM(G60:N60) -> 0 | P60: =O60*D12 -> 0 | S60: =B12 -> UCT | T60: =T12+T36+G36 -> 0 | U60: =U12+U36+H36 -> 0 | V60: =V12+V36+I36 -> 0 | W60: =W12+W36+J36 -> 0 | X60: =X12+X36+K36 -> 0 | Y60: =Y12+Y36+L36 -> 0 | Z60: =Z12+Z36+M36 -> 0 | AA60: =AA12+AA36+N36 -> 0 | AB60: =AB12+AB36+O36 -> 0 | AC60: =AB60*D12 -> 0 | AD60: =AB60/$AB$70 -> 0 | AE60: =IF(AC60>=325000, "CFS", "")
F61: =B13 -> Amigo Climate | G61: =((T13)*0.25)+((T37)*0.25) -> 0 | H61: =((U13)*0.25)+((U37)*0.25) -> 0 | I61: =((V13)*0.25)+((V37)*0.25) -> 0 | J61: =((W13)*0.25)+((W37)*0.25) -> 0 | K61: =((X13)*0.25)+((X37)*0.25) -> 0 | L61: =((Y13)*0.25)+((Y37)*0.25) -> 0 | M61: =((Z13)*0.25)+((Z37)*0.25) -> 0 | N61: =((AA13)*0.25)+((AA37)*0.25) -> 0 | O61: =SUM(G61:N61) -> 0 | P61: =O61*D13 -> 0 | S61: =B13 -> Amigo Climate | T61: =T13+T37+G37 -> 0 | U61: =U13+U37+H37 -> 0 | V61: =V13+V37+I37 -> 0 | W61: =W13+W37+J37 -> 0 | X61: =X13+X37+K37 -> 0 | Y61: =Y13+Y37+L37 -> 0 | Z61: =Z13+Z37+M37 -> 0 | AA61: =AA13+AA37+N37 -> 0 | AB61: =AB13+AB37+O37 -> 0 | AC61: =AB61*D13 -> 0 | AD61: =AB61/$AB$70 -> 0 | AE61: =IF(AC61>=325000, "CFS", "")
F62: =B14 -> MMS | G62: =((T14)*0.25)+((T38)*0.25) -> 0 | H62: =((U14)*0.25)+((U38)*0.25) -> 0 | I62: =((V14)*0.25)+((V38)*0.25) -> 0 | J62: =((W14)*0.25)+((W38)*0.25) -> 0 | K62: =((X14)*0.25)+((X38)*0.25) -> 0 | L62: =((Y14)*0.25)+((Y38)*0.25) -> 0 | M62: =((Z14)*0.25)+((Z38)*0.25) -> 0 | N62: =((AA14)*0.25)+((AA38)*0.25) -> 0 | O62: =SUM(G62:N62) -> 0 | P62: =O62*D14 -> 0 | S62: =B14 -> MMS | T62: =T14+T38+G38 -> 0 | U62: =U14+U38+H38 -> 0 | V62: =V14+V38+I38 -> 0 | W62: =W14+W38+J38 -> 0 | X62: =X14+X38+K38 -> 0 | Y62: =Y14+Y38+L38 -> 0 | Z62: =Z14+Z38+M38 -> 0 | AA62: =AA14+AA38+N38 -> 0 | AB62: =AB14+AB38+O38 -> 0 | AC62: =AB62*D14 -> 0 | AD62: =AB62/$AB$70 -> 0
F63: =B15 -> TMA | G63: =((T15)*0.25)+((T39)*0.25) -> 0 | H63: =((U15)*0.25)+((U39)*0.25) -> 0 | I63: =((V15)*0.25)+((V39)*0.25) -> 0 | J63: =((W15)*0.25)+((W39)*0.25) -> 0 | K63: =((X15)*0.25)+((X39)*0.25) -> 0 | L63: =((Y15)*0.25)+((Y39)*0.25) -> 0 | M63: =((Z15)*0.25)+((Z39)*0.25) -> 0 | N63: =((AA15)*0.25)+((AA39)*0.25) -> 0 | O63: =SUM(G63:N63) -> 0 | P63: =O63*D15 -> 0 | S63: =B15 -> TMA | T63: =T15+T39+G39 -> 0 | U63: =U15+U39+H39 -> 0 | V63: =V15+V39+I39 -> 0 | W63: =W15+W39+J39 -> 0 | X63: =X15+X39+K39 -> 0 | Y63: =Y15+Y39+L39 -> 0 | Z63: =Z15+Z39+M39 -> 0 | AA63: =AA15+AA39+N39 -> 0 | AB63: =AB15+AB39+O39 -> 0 | AC63: =AB63*D15 -> 0 | AD63: =AB63/$AB$70 -> 0
F64: =B16 -> JRC-Ispra | G64: =((T16)*0.25)+((T40)*0.25) -> 0 | H64: =((U16)*0.25)+((U40)*0.25) -> 0 | I64: =((V16)*0.25)+((V40)*0.25) -> 0 | J64: =((W16)*0.25)+((W40)*0.25) -> 0 | K64: =((X16)*0.25)+((X40)*0.25) -> 0 | L64: =((Y16)*0.25)+((Y40)*0.25) -> 0 | M64: =((Z16)*0.25)+((Z40)*0.25) -> 0 | N64: =((AA16)*0.25)+((AA40)*0.25) -> 0 | O64: =SUM(G64:N64) -> 0 | P64: =O64*D16 -> 0 | S64: =B16 -> JRC-Ispra | T64: =T16+T40+G40 -> 0 | U64: =U16+U40+H40 -> 0 | V64: =V16+V40+I40 -> 0 | W64: =W16+W40+J40 -> 0 | X64: =X16+X40+K40 -> 0 | Y64: =Y16+Y40+L40 -> 0 | Z64: =Z16+Z40+M40 -> 0 | AA64: =AA16+AA40+N40 -> 0 | AB64: =AB16+AB40+O40 -> 0 | AC64: =AB64*D16 -> 0 | AD64: =AB64/$AB$70 -> 0
F65: =B17 -> SSA | G65: =((T17)*0.25)+((T41)*0.25) -> 0 | H65: =((U17)*0.25)+((U41)*0.25) -> 0 | I65: =((V17)*0.25)+((V41)*0.25) -> 0 | J65: =((W17)*0.25)+((W41)*0.25) -> 0 | K65: =((X17)*0.25)+((X41)*0.25) -> 0 | L65: =((Y17)*0.25)+((Y41)*0.25) -> 0 | M65: =((Z17)*0.25)+((Z41)*0.25) -> 0 | N65: =((AA17)*0.25)+((AA41)*0.25) -> 0 | O65: =SUM(G65:N65) -> 0 | P65: =O65*D17 -> 0 | S65: =B17 -> SSA | T65: =T17+T41+G41 -> 0 | U65: =U17+U41+H41 -> 0 | V65: =V17+V41+I41 -> 0 | W65: =W17+W41+J41 -> 0 | X65: =X17+X41+K41 -> 0 | Y65: =Y17+Y41+L41 -> 0 | Z65: =Z17+Z41+M41 -> 0 | AA65: =AA17+AA41+N41 -> 0 | AB65: =AB17+AB41+O41 -> 0 | AC65: =AB65*D17 -> 0 | AD65: =AB65/$AB$70 -> 0
F66: =B18 -> Plan Italia | G66: =((T18)*0.25)+((T42)*0.25) -> 0 | H66: =((U18)*0.25)+((U42)*0.25) -> 0 | I66: =((V18)*0.25)+((V42)*0.25) -> 0 | J66: =((W18)*0.25)+((W42)*0.25) -> 0 | K66: =((X18)*0.25)+((X42)*0.25) -> 0 | L66: =((Y18)*0.25)+((Y42)*0.25) -> 0 | M66: =((Z18)*0.25)+((Z42)*0.25) -> 0 | N66: =((AA18)*0.25)+((AA42)*0.25) -> 0 | O66: =SUM(G66:N66) -> 0 | P66: =O66*D18 -> 0 | S66: =B18 -> Plan Italia | T66: =T18+T42+G42 -> 0 | U66: =U18+U42+H42 -> 0 | V66: =V18+V42+I42 -> 0 | W66: =W18+W42+J42 -> 0 | X66: =X18+X42+K42 -> 0 | Y66: =Y18+Y42+L42 -> 0 | Z66: =Z18+Z42+M42 -> 0 | AA66: =AA18+AA42+N42 -> 0 | AB66: =AB18+AB42+O42 -> 0 | AC66: =AB66*D18 -> 0 | AD66: =AB66/$AB$70 -> 0
F67: =B19 -> COWI | G67: =((T19)*0.25)+((T43)*0.25) -> 0 | H67: =((U19)*0.25)+((U43)*0.25) -> 0 | I67: =((V19)*0.25)+((V43)*0.25) -> 0 | J67: =((W19)*0.25)+((W43)*0.25) -> 0 | K67: =((X19)*0.25)+((X43)*0.25) -> 0 | L67: =((Y19)*0.25)+((Y43)*0.25) -> 0 | M67: =((Z19)*0.25)+((Z43)*0.25) -> 0 | N67: =((AA19)*0.25)+((AA43)*0.25) -> 0 | O67: =SUM(G67:N67) -> 0 | P67: =O67*D19 -> 0 | S67: =B19 -> COWI | T67: =T19+T43+G43 -> 0 | U67: =U19+U43+H43 -> 0 | V67: =V19+V43+I43 -> 0 | W67: =W19+W43+J43 -> 0 | X67: =X19+X43+K43 -> 0 | Y67: =Y19+Y43+L43 -> 0 | Z67: =Z19+Z43+M43 -> 0 | AA67: =AA19+AA43+N43 -> 0 | AB67: =AB19+AB43+O43 -> 0 | AC67: =AB67*D19 -> 0 | AD67: =AB67/$AB$70 -> 0
F68: =B20 -> DCCMS | G68: =((T20)*0.25)+((T44)*0.25) -> 0 | H68: =((U20)*0.25)+((U44)*0.25) -> 0 | I68: =((V20)*0.25)+((V44)*0.25) -> 0 | J68: =((W20)*0.25)+((W44)*0.25) -> 0 | K68: =((X20)*0.25)+((X44)*0.25) -> 0 | L68: =((Y20)*0.25)+((Y44)*0.25) -> 0 | M68: =((Z20)*0.25)+((Z44)*0.25) -> 0 | N68: =((AA20)*0.25)+((AA44)*0.25) -> 0 | O68: =SUM(G68:N68) -> 0 | P68: =O68*D20 -> 0 | S68: =B20 -> DCCMS | T68: =T20+T44+G44 -> 0 | U68: =U20+U44+H44 -> 0 | V68: =V20+V44+I44 -> 0 | W68: =W20+W44+J44 -> 0 | X68: =X20+X44+K44 -> 0 | Y68: =Y20+Y44+L44 -> 0 | Z68: =Z20+Z44+M44 -> 0 | AA68: =AA20+AA44+N44 -> 0 | AB68: =AB20+AB44+O44 -> 0 | AC68: =AB68*D20 -> 0 | AD68: =AB68/$AB$70 -> 0
F69: =B21 -> Landbank | G69: =((T21)*0.25)+((T45)*0.25) -> 0 | H69: =((U21)*0.25)+((U45)*0.25) -> 0 | I69: =((V21)*0.25)+((V45)*0.25) -> 0 | J69: =((W21)*0.25)+((W45)*0.25) -> 0 | K69: =((X21)*0.25)+((X45)*0.25) -> 0 | L69: =((Y21)*0.25)+((Y45)*0.25) -> 0 | M69: =((Z21)*0.25)+((Z45)*0.25) -> 0 | N69: =((AA21)*0.25)+((AA45)*0.25) -> 0 | O69: =SUM(G69:N69) -> 0 | P69: =O69*D21 -> 0 | S69: =B21 -> Landbank | T69: =T21+T45+G45 -> 0 | U69: =U21+U45+H45 -> 0 | V69: =V21+V45+I45 -> 0 | W69: =W21+W45+J45 -> 0 | X69: =X21+X45+K45 -> 0 | Y69: =Y21+Y45+L45 -> 0 | Z69: =Z21+Z45+M45 -> 0 | AA69: =AA21+AA45+N45 -> 0 | AB69: =AB21+AB45+O45 -> 0 | AC69: =AB69*D21 -> 0 | AD69: =AB69/$AB$70 -> 0 | AE69: =IF(AC69>=325000, "CFS", "")
F70: Total | G70: =SUM(G50:G69) -> 31500 | H70: =SUM(H50:H69) -> 11250 | I70: =SUM(I50:I69) -> 0 | J70: =SUM(J50:J69) -> 29250 | K70: =SUM(K50:K69) -> 65250 | L70: =SUM(L50:L69) -> 20250 | M70: =SUM(M50:M69) -> 0 | N70: =SUM(N50:N69) -> 18500 | ... P70: =SUM(P50:P69) -> 176000 | S70: Total | T70: =SUM(T50:T69) -> 126000 | U70: =SUM(U50:U69) -> 45000 | V70: =SUM(V50:V69) -> 0 | W70: =SUM(W50:W69) -> 117000 | X70: =SUM(X50:X69) -> 261000 | Y70: =SUM(Y50:Y69) -> 81000 | Z70: =SUM(Z50:Z69) -> 0 | AA70: =SUM(AA50:AA69) -> 74000 | ... AC70: =SUM(AC50:AC69) -> 704000
F71: Share | G71: =G70/$O$70 -> 0.17897727 | H71: =H70/$O$70 -> 0.063920455 | I71: =I70/$O$70 -> 0 | J71: =J70/$O$70 -> 0.16619318 | K71: =K70/$O$70 -> 0.37073864 | L71: =L70/$O$70 -> 0.11505682 | M71: =M70/$O$70 -> 0 | N71: =N70/$O$70 -> 0.10511364 | S71: WP share | T71: =T70/$AB$70 -> 0.17897727 | U71: =U70/$AB$70 -> 0.063920455 | V71: =V70/$AB$70 -> 0 | W71: =W70/$AB$70 -> 0.16619318 | X71: =X70/$AB$70 -> 0.37073864 | Y71: =Y70/$AB$70 -> 0.11505682 | Z71: =Z70/$AB$70 -> 0 | AA71: =AA70/$AB$70 -> 0.10511364
S73: TOTAL COSTS (€) | T73: WP1 | U73: WP2 | V73: WP3 | W73: WP4 | X73: WP5 | Y73: WP6 | Z73: WP7 | AA73: WP8 | AB73: Total | AC73: Requested | AD73: Share
S74: =B2 -> WMO | T74: =T2+T26+G26+G50 -> 0 | U74: =U2+U26+H26+H50 -> 0 | V74: =V2+V26+I26+I50 -> 0 | W74: =W2+W26+J26+J50 -> 0 | X74: =X2+X26+K26+K50 -> 0 | Y74: =Y2+Y26+L26+L50 -> 0 | Z74: =Z2+Z26+M26+M50 -> 0 | AA74: =AA2+AA26+N26+N50 -> 0 | AB74: =SUM(T74:AA74) -> 0 | AC74: =AB74*D2 -> 0 | AD74: =AB74/$AB$94 -> 0
S75: =B3 -> BSC | T75: =T3+T27+G27+G51 -> 157500 | U75: =U3+U27+H27+H51 -> 56250 | V75: =V3+V27+I27+I51 -> 0 | W75: =W3+W27+J27+J51 -> 146250 | X75: =X3+X27+K27+K51 -> 326250 | Y75: =Y3+Y27+L27+L51 -> 101250 | Z75: =Z3+Z27+M27+M51 -> 0 | AA75: =AA3+AA27+N27+N51 -> 92500 | AB75: =SUM(T75:AA75) -> 880000 | AC75: =AB75*D3 -> 880000 | AD75: =AB75/$AB$94 -> 1
S76: =B4 -> MettOffice | T76: =T4+T28+G28+G52 -> 0 | U76: =U4+U28+H28+H52 -> 0 | V76: =V4+V28+I28+I52 -> 0 | W76: =W4+W28+J28+J52 -> 0 | X76: =X4+X28+K28+K52 -> 0 | Y76: =Y4+Y28+L28+L52 -> 0 | Z76: =Z4+Z28+M28+M52 -> 0 | AA76: =AA4+AA28+N28+N52 -> 0 | AB76: =SUM(T76:AA76) -> 0 | AC76: =AB76*D4 -> 0 | AD76: =AB76/$AB$94 -> 0
S77: =B5 -> WEMC | T77: =T5+T29+G29+G53 -> 0 | U77: =U5+U29+H29+H53 -> 0 | V77: =V5+V29+I29+I53 -> 0 | W77: =W5+W29+J29+J53 -> 0 | X77: =X5+X29+K29+K53 -> 0 | Y77: =Y5+Y29+L29+L53 -> 0 | Z77: =Z5+Z29+M29+M53 -> 0 | AA77: =AA5+AA29+N29+N53 -> 0 | AB77: =SUM(T77:AA77) -> 0 | AC77: =AB77*D5 -> 0 | AD77: =AB77/$AB$94 -> 0
S78: =B6 -> SADC CSC | T78: =T6+T30+G30+G54 -> 0 | U78: =U6+U30+H30+H54 -> 0 | V78: =V6+V30+I30+I54 -> 0 | W78: =W6+W30+J30+J54 -> 0 | X78: =X6+X30+K30+K54 -> 0 | Y78: =Y6+Y30+L30+L54 -> 0 | Z78: =Z6+Z30+M30+M54 -> 0 | AA78: =AA6+AA30+N30+N54 -> 0 | AB78: =SUM(T78:AA78) -> 0 | AC78: =AB78*D6 -> 0 | AD78: =AB78/$AB$94 -> 0
S79: =B7 -> EDF | T79: =T7+T31+G31+G55 -> 0 | U79: =U7+U31+H31+H55 -> 0 | V79: =V7+V31+I31+I55 -> 0 | W79: =W7+W31+J31+J55 -> 0 | X79: =X7+X31+K31+K55 -> 0 | Y79: =Y7+Y31+L31+L55 -> 0 | Z79: =Z7+Z31+M31+M55 -> 0 | AA79: =AA7+AA31+N31+N55 -> 0 | AB79: =SUM(T79:AA79) -> 0 | AC79: =AB79*D7 -> 0 | AD79: =AB79/$AB$94 -> 0
S80: =B8 -> ACMAD | T80: =T8+T32+G32+G56 -> 0 | U80: =U8+U32+H32+H56 -> 0 | V80: =V8+V32+I32+I56 -> 0 | W80: =W8+W32+J32+J56 -> 0 | X80: =X8+X32+K32+K56 -> 0 | Y80: =Y8+Y32+L32+L56 -> 0 | Z80: =Z8+Z32+M32+M56 -> 0 | AA80: =AA8+AA32+N32+N56 -> 0 | AB80: =SUM(T80:AA80) -> 0 | AC80: =AB80*D8 -> 0 | AD80: =AB80/$AB$94 -> 0
S81: =B9 -> CSIR | T81: =T9+T33+G33+G57 -> 0 | U81: =U9+U33+H33+H57 -> 0 | V81: =V9+V33+I33+I57 -> 0 | W81: =W9+W33+J33+J57 -> 0 | X81: =X9+X33+K33+K57 -> 0 | Y81: =Y9+Y33+L33+L57 -> 0 | Z81: =Z9+Z33+M33+M57 -> 0 | AA81: =AA9+AA33+N33+N57 -> 0 | AB81: =SUM(T81:AA81) -> 0 | AC81: =AB81*D9 -> 0 | AD81: =AB81/$AB$94 -> 0
S82: =B10 -> LGI | T82: =T10+T34+G34+G58 -> 0 | U82: =U10+U34+H34+H58 -> 0 | V82: =V10+V34+I34+I58 -> 0 | W82: =W10+W34+J34+J58 -> 0 | X82: =X10+X34+K34+K58 -> 0 | Y82: =Y10+Y34+L34+L58 -> 0 | Z82: =Z10+Z34+M34+M58 -> 0 | AA82: =AA10+AA34+N34+N58 -> 0 | AB82: =SUM(T82:AA82) -> 0 | AC82: =AB82*D10 -> 0 | AD82: =AB82/$AB$94 -> 0
S83: =B11 -> WITS University | T83: =T11+T35+G35+G59 -> 0 | U83: =U11+U35+H35+H59 -> 0 | V83: =V11+V35+I35+I59 -> 0 | W83: =W11+W35+J35+J59 -> 0 | X83: =X11+X35+K35+K59 -> 0 | Y83: =Y11+Y35+L35+L59 -> 0 | Z83: =Z11+Z35+M35+M59 -> 0 | AA83: =AA11+AA35+N35+N59 -> 0 | AB83: =SUM(T83:AA83) -> 0 | AC83: =AB83*D11 -> 0 | AD83: =AB83/$AB$94 -> 0
S84: =B12 -> UCT | T84: =T12+T36+G36+G60 -> 0 | U84: =U12+U36+H36+H60 -> 0 | V84: =V12+V36+I36+I60 -> 0 | W84: =W12+W36+J36+J60 -> 0 | X84: =X12+X36+K36+K60 -> 0 | Y84: =Y12+Y36+L36+L60 -> 0 | Z84: =Z12+Z36+M36+M60 -> 0 | AA84: =AA12+AA36+N36+N60 -> 0 | AB84: =SUM(T84:AA84) -> 0 | AC84: =AB84*D12 -> 0 | AD84: =AB84/$AB$94 -> 0
S85: =B13 -> Amigo Climate | T85: =T13+T37+G37+G61 -> 0 | U85: =U13+U37+H37+H61 -> 0 | V85: =V13+V37+I37+I61 -> 0 | W85: =W13+W37+J37+J61 -> 0 | X85: =X13+X37+K37+K61 -> 0 | Y85: =Y13+Y37+L37+L61 -> 0 | Z85: =Z13+Z37+M37+M61 -> 0 | AA85: =AA13+AA37+N37+N61 -> 0 | AB85: =SUM(T85:AA85) -> 0 | AC85: =AB85*D13 -> 0 | AD85: =AB85/$AB$94 -> 0
... S93: =B21 -> Landbank | T93: =T21+T45+G45+G69 -> 0 | U93: =U21+U45+H45+H69 -> 0 | V93: =V21+V45+I45+I69 -> 0 | W93: =W21+W45+J45+J69 -> 0 | X93: =X21+X45+K45+K69 -> 0 | Y93: =Y21+Y45+L45+L69 -> 0 | Z93: =Z21+Z45+M45+M69 -> 0 | AA93: =AA21+AA45+N45+N69 -> 0 | AB93: =SUM(T93:AA93) -> 0 | AC93: =AB93*D21 -> 0 | AD93: =AB93/$AB$94 -> 0
S94: Total | T94: =SUM(T74:T93) -> 157500 | U94: =SUM(U74:U93) -> 56250 | V94: =SUM(V74:V93) -> 0 | W94: =SUM(W74:W93) -> 146250 | X94: =SUM(X74:X93) -> 326250 | Y94: =SUM(Y74:Y93) -> 101250 | Z94: =SUM(Z74:Z93) -> 0 | AA94: =SUM(AA74:AA93) -> 92500 | ... AC94: =SUM(AC74:AC93) -> 880000
S95: WP share | T95: =T94/$AB$94 -> 0.17897727 | U95: =U94/$AB$94 -> 0.063920455 | V95: =V94/$AB$94 -> 0 | W95: =W94/$AB$94 -> 0.16619318 | X95: =X94/$AB$94 -> 0.37073864 | Y95: =Y94/$AB$94 -> 0.11505682 | Z95: =Z94/$AB$94 -> 0 | AA95: =AA94/$AB$94 -> 0.10511364

Sheet Log
B2: DATE | C2: WP | D2: CHANGES

Sheet Efforts by task
B1: To ADAPT
B2: Partner | C2: 1.1 | D2: 1.2 | E2: 1.3 | F2: 1.4 | G2: 1.5 | H2: WP1 | I2: 2.1 | J2: 2.2 | K2: 2.3 | L2: 2.4 | M2: 2.5 | N2: WP2 | O2: 3.1 | P2: 3.2 | Q2: 3.3 | R2: 3.4 | S2: 3.5 | T2: 3.6 | U2: WP3 | V2: 4.1 | W2: 4.2 | X2: 4.3 | Y2: 4.4 | Z2: WP4 | AA2: 5.1 | AB2: 5.2 | AC2: 5.3 | AD2: 5.4 | AE2: WP5 | AF2: 6.1 | AG2: 6.2 | AH2: 6.3 | AI2: 6.4 | AJ2: WP6 | AK2: 7.1 | AL2: 7.2 | AM2: 7.3 | AN2: 7.4 | AO2: WP7 | AP2: 8.1 | AQ2: 8.2 | AR2: 8.3 | AS2: WP8
B3: ='Effort, costs'!B2 -> WMO | H3: =SUM(C3:G3) -> 0 | N3: =SUM(I3:M3) -> 0 | U3: =SUM(O3:T3) -> 0 | Z3: =SUM(V3:Y3) -> 0 | AE3: =SUM(AA3:AD3) -> 0 | AJ3: =SUM(AF3:AI3) -> 0 | AO3: =SUM(AK3:AN3) -> 0 | AS3: =SUM(AP3:AR3) -> 0
B4: ='Effort, costs'!B3 -> BSC | H4: =SUM(C4:G4) -> 0 | N4: =SUM(I4:M4) -> 0 | U4: =SUM(O4:T4) -> 0 | Z4: =SUM(V4:Y4) -> 0 | AE4: =SUM(AA4:AD4) -> 0 | AJ4: =SUM(AF4:AI4) -> 0 | AO4: =SUM(AK4:AN4) -> 0 | AS4: =SUM(AP4:AR4) -> 0
B5: ='Effort, costs'!B4 -> MettOffice | H5: =SUM(C5:G5) -> 0 | N5: =SUM(I5:M5) -> 0 | U5: =SUM(O5:T5) -> 0 | Z5: =SUM(V5:Y5) -> 0 | AE5: =SUM(AA5:AD5) -> 0 | AJ5: =SUM(AF5:AI5) -> 0 | AO5: =SUM(AK5:AN5) -> 0 | AS5: =SUM(AP5:AR5) -> 0
B6: ='Effort, costs'!B5 -> WEMC | H6: =SUM(C6:G6) -> 0 | N6: =SUM(I6:M6) -> 0 | U6: =SUM(O6:T6) -> 0 | Z6: =SUM(V6:Y6) -> 0 | AE6: =SUM(AA6:AD6) -> 0 | AJ6: =SUM(AF6:AI6) -> 0 | AO6: =SUM(AK6:AN6) -> 0 | AS6: =SUM(AP6:AR6) -> 0
B7: ='Effort, costs'!B6 -> SADC CSC | H7: =SUM(C7:G7) -> 0 | N7: =SUM(I7:M7) -> 0 | U7: =SUM(O7:T7) -> 0 | Z7: =SUM(V7:Y7) -> 0 | AE7: =SUM(AA7:AD7) -> 0 | AJ7: =SUM(AF7:AI7) -> 0 | AO7: =SUM(AK7:AN7) -> 0 | AS7: =SUM(AP7:AR7) -> 0
B8: ='Effort, costs'!B7 -> EDF | H8: =SUM(C8:G8) -> 0 | N8: =SUM(I8:M8) -> 0 | U8: =SUM(O8:T8) -> 0 | Z8: =SUM(V8:Y8) -> 0 | AE8: =SUM(AA8:AD8) -> 0 | AJ8: =SUM(AF8:AI8) -> 0 | AO8: =SUM(AK8:AN8) -> 0 | AS8: =SUM(AP8:AR8) -> 0
B9: ='Effort, costs'!B8 -> ACMAD | H9: =SUM(C9:G9) -> 0 | N9: =SUM(I9:M9) -> 0 | U9: =SUM(O9:T9) -> 0 | Z9: =SUM(V9:Y9) -> 0 | AE9: =SUM(AA9:AD9) -> 0 | AJ9: =SUM(AF9:AI9) -> 0 | AO9: =SUM(AK9:AN9) -> 0 | AS9: =SUM(AP9:AR9) -> 0
B10: ='Effort, costs'!B9 -> CSIR | H10: =SUM(C10:G10) -> 0 | N10: =SUM(I10:M10) -> 0 | U10: =SUM(O10:T10) -> 0 | Z10: =SUM(V10:Y10) -> 0 | AE10: =SUM(AA10:AD10) -> 0 | AJ10: =SUM(AF10:AI10) -> 0 | AO10: =SUM(AK10:AN10) -> 0 | AS10: =SUM(AP10:AR10) -> 0
B11: ='Effort, costs'!B10 -> LGI | H11: =SUM(C11:G11) -> 0 | N11: =SUM(I11:M11) -> 0 | U11: =SUM(O11:T11) -> 0 | Z11: =SUM(V11:Y11) -> 0 | AE11: =SUM(AA11:AD11) -> 0 | AJ11: =SUM(AF11:AI11) -> 0 | AO11: =SUM(AK11:AN11) -> 0 | AS11: =SUM(AP11:AR11) -> 0
B12: ='Effort, costs'!B11 -> WITS University | H12: =SUM(C12:G12) -> 0 | N12: =SUM(I12:M12) -> 0 | U12: =SUM(O12:T12) -> 0 | Z12: =SUM(V12:Y12) -> 0 | AE12: =SUM(AA12:AD12) -> 0 | AJ12: =SUM(AF12:AI12) -> 0 | AO12: =SUM(AK12:AN12) -> 0 | AS12: =SUM(AP12:AR12) -> 0
B13: ='Effort, costs'!B12 -> UCT | H13: =SUM(C13:G13) -> 0 | N13: =SUM(I13:M13) -> 0 | U13: =SUM(O13:T13) -> 0 | Z13: =SUM(V13:Y13) -> 0 | AE13: =SUM(AA13:AD13) -> 0 | AJ13: =SUM(AF13:AI13) -> 0 | AO13: =SUM(AK13:AN13) -> 0 | AS13: =SUM(AP13:AR13) -> 0
B14: ='Effort, costs'!B13 -> Amigo Climate | H14: =SUM(C14:G14) -> 0 | N14: =SUM(I14:M14) -> 0 | U14: =SUM(O14:T14) -> 0 | Z14: =SUM(V14:Y14) -> 0 | AE14: =SUM(AA14:AD14) -> 0 | AJ14: =SUM(AF14:AI14) -> 0 | AO14: =SUM(AK14:AN14) -> 0 | AS14: =SUM(AP14:AR14) -> 0
B15: ='Effort, costs'!B14 -> MMS | Z15: =SUM(V15:Y15) -> 0 | AE15: =SUM(AA15:AD15) -> 0 | AJ15: =SUM(AF15:AI15) -> 0 | AO15: =SUM(AK15:AN15) -> 0 | AS15: =SUM(AP15:AR15) -> 0
B16: ='Effort, costs'!B15 -> TMA | Z16: =SUM(V16:Y16) -> 0 | AE16: =SUM(AA16:AD16) -> 0 | AJ16: =SUM(AF16:AI16) -> 0 | AO16: =SUM(AK16:AN16) -> 0 | AS16: =SUM(AP16:AR16) -> 0
B17: ='Effort, costs'!B16 -> JRC-Ispra | Z17: =SUM(V17:Y17) -> 0 | AE17: =SUM(AA17:AD17) -> 0 | AJ17: =SUM(AF17:AI17) -> 0 | AO17: =SUM(AK17:AN17) -> 0 | AS17: =SUM(AP17:AR17) -> 0
B18: ='Effort, costs'!B17 -> SSA | Z18: =SUM(V18:Y18) -> 0 | AE18: =SUM(AA18:AD18) -> 0 | AJ18: =SUM(AF18:AI18) -> 0 | AO18: =SUM(AK18:AN18) -> 0 | AS18: =SUM(AP18:AR18) -> 0
B19: ='Effort, costs'!B18 -> Plan Italia | Z19: =SUM(V19:Y19) -> 0 | AE19: =SUM(AA19:AD19) -> 0 | AJ19: =SUM(AF19:AI19) -> 0 | AO19: =SUM(AK19:AN19) -> 0 | AS19: =SUM(AP19:AR19) -> 0
B20: ='Effort, costs'!B19 -> COWI | Z20: =SUM(V20:Y20) -> 0 | AE20: =SUM(AA20:AD20) -> 0 | AJ20: =SUM(AF20:AI20) -> 0 | AO20: =SUM(AK20:AN20) -> 0 | AS20: =SUM(AP20:AR20) -> 0
B21: ='Effort, costs'!B20 -> DCCMS | Z21: =SUM(V21:Y21) -> 0 | AE21: =SUM(AA21:AD21) -> 0 | AJ21: =SUM(AF21:AI21) -> 0 | AO21: =SUM(AK21:AN21) -> 0 | AS21: =SUM(AP21:AR21) -> 0
B22: ='Effort, costs'!B21 -> Landbank | H22: =SUM(C22:G22) -> 0 | N22: =SUM(I22:M22) -> 0 | U22: =SUM(O22:T22) -> 0 | Z22: =SUM(V22:Y22) -> 0 | AE22: =SUM(AA22:AD22) -> 0 | AJ22: =SUM(AF22:AI22) -> 0 | AO22: =SUM(AK22:AN22) -> 0 | AS22: =SUM(AP22:AR22) -> 0
B23: Total | C23: =SUM(C3:C22) -> 0 | D23: =SUM(D3:D22) -> 0 | E23: =SUM(E3:E22) -> 0 | F23: =SUM(F3:F22) -> 0 | G23: =SUM(G3:G22) -> 0 | H23: =SUM(H3:H22) -> 0 | I23: =SUM(I3:I22) -> 0 | J23: =SUM(J3:J22) -> 0 | ... AR23: =SUM(AR3:AR22) -> 0 | AS23: =SUM(AP23:AR23) -> 0

Sheet Summary
B2: # | C2: Short name | D2: Country | E2: (A) Direct personnel costs | F2: (B) Other direct costs | G2: (C) Direct costs of subcontracting | H2: (D) Direct costs of providing financial support to third parties | I2: (E) Costs of inkind contributions not used on the beneficiary's premises | J2: (F) Indirect Costs /€ (0.25(A+B-E)) | K2: (G) Special unit costs covering direct & indirect costs | L2: (H) Total estimated eligible costs (A+B+C+D+F+G) | M2: (I) Reimbursement rate (%) | N2: (J) Max.EU Contribution (H*I) | O2: (K) Requested EU Contribution/
B3: 1 | C3: ='Effort, costs'!B2 -> WMO | D3: CH | E3: ='Effort, costs'!AB2 -> 0 | F3: ='Effort, costs'!AB26 -> 0 | G3: ='Effort, costs'!O26 -> 0 | I3: 0 | J3: =0.25*(E3+F3+I3) -> 0 | L3: =E3+F3+G3+H3+J3+K3 -> 0 | M3: ='Effort, costs'!D2 -> 1 | N3: =L3*M3 -> 0 | O3: =N3 -> 0
B4: 2 | C4: ='Effort, costs'!B3 -> BSC | D4: ES | E4: ='Effort, costs'!AB3 -> 639000 | F4: ='Effort, costs'!AB27 -> 65000 | G4: ='Effort, costs'!O27 -> 0 | I4: 0 | J4: =0.25*(E4+F4+I4) -> 176000 | L4: =E4+F4+G4+H4+J4+K4 -> 880000 | M4: ='Effort, costs'!D3 -> 1 | N4: =L4*M4 -> 880000 | O4: =N4 -> 880000
B5: 3 | C5: ='Effort, costs'!B4 -> MettOffice | D5: UK | E5: ='Effort, costs'!AB4 -> 0 | F5: ='Effort, costs'!AB28 -> 0 | G5: ='Effort, costs'!O28 -> 0 | I5: 0 | J5: =0.25*(E5+F5+I5) -> 0 | L5: =E5+F5+G5+H5+J5+K5 -> 0 | M5: ='Effort, costs'!D4 -> 1 | N5: =L5*M5 -> 0 | O5: =N5 -> 0
B6: 4 | C6: ='Effort, costs'!B5 -> WEMC | D6: UK | E6: ='Effort, costs'!AB5 -> 0 | F6: ='Effort, costs'!AB29 -> 0 | G6: ='Effort, costs'!O29 -> 0 | I6: 0 | J6: =0.25*(E6+F6+I6) -> 0 | L6: =E6+F6+G6+H6+J6+K6 -> 0 | M6: ='Effort, costs'!D5 -> 1 | N6: =L6*M6 -> 0 | O6: =N6 -> 0
B7: 5 | C7: ='Effort, costs'!B6 -> SADC CSC | D7: BW | E7: ='Effort, costs'!AB6 -> 0 | F7: ='Effort, costs'!AB30 -> 0 | G7: ='Effort, costs'!O30 -> 0 | I7: 0 | J7: =0.25*(E7+F7+I7) -> 0 | L7: =E7+F7+G7+H7+J7+K7 -> 0 | M7: ='Effort, costs'!D6 -> 1 | N7: =L7*M7 -> 0 | O7: =N7 -> 0
B8: 6 | C8: ='Effort, costs'!B7 -> EDF | D8: FR | E8: ='Effort, costs'!AB7 -> 0 | F8: ='Effort, costs'!AB31 -> 0 | G8: ='Effort, costs'!O31 -> 0 | I8: 0 | J8: =0.25*(E8+F8+I8) -> 0 | L8: =E8+F8+G8+H8+J8+K8 -> 0 | M8: ='Effort, costs'!D7 -> 1 | N8: =L8*M8 -> 0 | O8: =N8 -> 0
B9: 7 | C9: ='Effort, costs'!B8 -> ACMAD | D9: NE | E9: ='Effort, costs'!AB8 -> 0 | F9: ='Effort, costs'!AB32 -> 0 | G9: ='Effort, costs'!O32 -> 0 | I9: 0 | J9: =0.25*(E9+F9+I9) -> 0 | L9: =E9+F9+G9+H9+J9+K9 -> 0 | M9: ='Effort, costs'!D8 -> 1 | N9: =L9*M9 -> 0 | O9: =N9 -> 0
B10: 8 | C10: ='Effort, costs'!B9 -> CSIR | D10: ZA | E10: ='Effort, costs'!AB9 -> 0 | F10: ='Effort, costs'!AB33 -> 0 | G10: ='Effort, costs'!O33 -> 0 | I10: 0 | J10: =0.25*(E10+F10+I10) -> 0 | L10: =E10+F10+G10+H10+J10+K10 -> 0 | M10: ='Effort, costs'!D9 -> 1 | N10: =L10*M10 -> 0 | O10: =N10 -> 0
B11: 9 | C11: ='Effort, costs'!B10 -> LGI | D11: FR | E11: ='Effort, costs'!AB10 -> 0 | F11: ='Effort, costs'!AB34 -> 0 | G11: ='Effort, costs'!O34 -> 0 | I11: 0 | J11: =0.25*(E11+F11+I11) -> 0 | L11: =E11+F11+G11+H11+J11+K11 -> 0 | M11: ='Effort, costs'!D10 -> 1 | N11: =L11*M11 -> 0 | O11: =N11 -> 0
B12: 10 | C12: ='Effort, costs'!B11 -> WITS University | D12: ZA | E12: ='Effort, costs'!AB11 -> 0 | F12: ='Effort, costs'!AB35 -> 0 | G12: ='Effort, costs'!O35 -> 0 | I12: 0 | J12: =0.25*(E12+F12+I12) -> 0 | L12: =E12+F12+G12+H12+J12+K12 -> 0 | M12: ='Effort, costs'!D11 -> 1 | N12: =L12*M12 -> 0 | O12: =N12 -> 0
B13: 11 | C13: ='Effort, costs'!B12 -> UCT | D13: ZA | E13: ='Effort, costs'!AB12 -> 0 | F13: ='Effort, costs'!AB36 -> 0 | G13: ='Effort, costs'!O36 -> 0 | I13: 0 | J13: =0.25*(E13+F13+I13) -> 0 | L13: =E13+F13+G13+H13+J13+K13 -> 0 | M13: ='Effort, costs'!D12 -> 1 | N13: =L13*M13 -> 0 | O13: =N13 -> 0
B14: 12 | C14: ='Effort, costs'!B13 -> Amigo Climate | D14: IT | E14: ='Effort, costs'!AB13 -> 0 | F14: ='Effort, costs'!AB37 -> 0 | J14: =0.25*(E14+F14+I14) -> 0 | L14: =E14+F14+G14+H14+J14+K14 -> 0 | M14: ='Effort, costs'!D13 -> 1 | N14: =L14*M14 -> 0 | O14: =N14 -> 0
B15: 13 | C15: ='Effort, costs'!B14 -> MMS | D15: MU | E15: ='Effort, costs'!AB14 -> 0 | F15: ='Effort, costs'!AB38 -> 0 | J15: =0.25*(E15+F15+I15) -> 0 | L15: =E15+F15+G15+H15+J15+K15 -> 0 | M15: ='Effort, costs'!D14 -> 1 | N15: =L15*M15 -> 0 | O15: =N15 -> 0
B16: 14 | C16: ='Effort, costs'!B15 -> TMA | D16: TZ | E16: ='Effort, costs'!AB15 -> 0 | F16: ='Effort, costs'!AB39 -> 0 | J16: =0.25*(E16+F16+I16) -> 0 | L16: =E16+F16+G16+H16+J16+K16 -> 0 | M16: ='Effort, costs'!D15 -> 1 | N16: =L16*M16 -> 0 | O16: =N16 -> 0
B17: 15 | C17: ='Effort, costs'!B16 -> JRC-Ispra | D17: BE | E17: ='Effort, costs'!AB16 -> 0 | F17: ='Effort, costs'!AB40 -> 0 | J17: =0.25*(E17+F17+I17) -> 0 | L17: =E17+F17+G17+H17+J17+K17 -> 0 | M17: ='Effort, costs'!D16 -> 1 | N17: =L17*M17 -> 0 | O17: =N17 -> 0
B18: 16 | C18: ='Effort, costs'!B17 -> SSA | D18: IT | E18: ='Effort, costs'!AB17 -> 0 | F18: ='Effort, costs'!AB41 -> 0 | J18: =0.25*(E18+F18+I18) -> 0 | L18: =E18+F18+G18+H18+J18+K18 -> 0 | M18: ='Effort, costs'!D17 -> 1 | N18: =L18*M18 -> 0 | O18: =N18 -> 0
B19: 17 | C19: ='Effort, costs'!B18 -> Plan Italia | D19: IT | E19: ='Effort, costs'!AB18 -> 0 | F19: ='Effort, costs'!AB42 -> 0 | J19: =0.25*(E19+F19+I19) -> 0 | L19: =E19+F19+G19+H19+J19+K19 -> 0 | M19: ='Effort, costs'!D18 -> 1 | N19: =L19*M19 -> 0 | O19: =N19 -> 0
B20: 18 | C20: ='Effort, costs'!B19 -> COWI | D20: DK | E20: ='Effort, costs'!AB19 -> 0 | F20: ='Effort, costs'!AB43 -> 0 | J20: =0.25*(E20+F20+I20) -> 0 | L20: =E20+F20+G20+H20+J20+K20 -> 0 | M20: ='Effort, costs'!D19 -> 1 | N20: =L20*M20 -> 0 | O20: =N20 -> 0
B21: 19 | C21: ='Effort, costs'!B13 -> Amigo Climate | D21: MW | E21: ='Effort, costs'!AB20 -> 0 | F21: ='Effort, costs'!AB37 -> 0 | G21: ='Effort, costs'!O37 -> 0 | I21: 0 | J21: =0.25*(E21+F21+I21) -> 0 | L21: =E21+F21+G21+H21+J21+K21 -> 0 | M21: ='Effort, costs'!D13 -> 1 | N21: =L21*M21 -> 0 | O21: =N21 -> 0
B22: 20 | C22: ='Effort, costs'!B21 -> Landbank | D22: ZA | E22: ='Effort, costs'!AB21 -> 0 | F22: ='Effort, costs'!AB45 -> 0 | G22: ='Effort, costs'!O45 -> 0 | I22: 0 | J22: =0.25*(E22+F22+I22) -> 0 | L22: =E22+F22+G22+H22+J22+K22 -> 0 | M22: ='Effort, costs'!D21 -> 1 | N22: =L22*M22 -> 0 | O22: =N22 -> 0
B23: TOTAL | E23: =SUM(E3:E22) -> 639000 | F23: =SUM(F3:F22) -> 65000 | G23: =SUM(G3:G22) -> 0 | H23: =SUM(H3:H22) -> 0 | I23: =SUM(I3:I22) -> 0 | J23: =SUM(J3:J22) -> 176000 | K23: =SUM(K3:K22) -> 0 | L23: =SUM(L3:L22) -> 880000 | N23: =SUM(N3:N22) -> 880000 | O23: =SUM(O3:O22) -> 880000

Sheet Deliverables
B2: Deliverable | C2: Title | D2: Lead by | E2: Type | F2: Dissemination level | G2: Due | H2: Due Date | J2: Type code | K2: Meaning
B3: D1.1 | C3: Assessment report for generation quantity and quality of slags and MSWI bottom ashes in Europe | D3: TU Delft | E3: R | F3: PU | G3: M8 | J3: R | K3: Document, report
B4: D1.2 | C4: Assessment report on recycling technologies for non-ferrous slags and MSWI bottom ash | D4: MEFOS | E4: R | F4: PU | G4: M8 | J4: DEM | K4: Demonstrator, pilot, prototype
B5: D1.3 | C5: Report on trends and forecast of recycling technologies and the related environmental regulations | D5: Coolrec | E5: R | F5: PU | G5: M18 | J5: DEC | K5: Websites, patent filings, videos
B6: D2.1 | C6: Chemical and mineralogical characterization report on feeds | D6: ER | E6: R | F6: PU | G6: M9 | J6: OTHER
B7: D2.2 | C7: Technical report on comminution tests | D7: BRGM | E7: R | F7: PU | G7: M12 | J7: ETHICS | K7: Ethics requirement
B8: D2.3 | C8: Technical report on concentration tests | D8: ULIEGE | E8: R | F8: PU | G8: M24 | J8: ORDP | K8: Open Research Data Pilot
B9: D2.4 | C9: Geometallurgical modelling report | D9: ER | E9: R | F9: PU | G9: M46
B10: D3.1 | C10: Selected demonstration cases. Guidelines for Task 3.2-3.6. | D10: MEFOS | E10: R | F10: PU | G10: M12 | J10: Dissemination level | K10: Meaning
B11: D3.2 | C11: Slag modification report | D11: MEFOS | E11: R | F11: PU | G11: M18 | J11: PU | K11: Public
B12: D3.3 | C12: Report on removal of impurities by roasting | D12: TU Delft | E12: R | F12: PU | G12: M18 | J12: CO | K12: Confidential, only for members of the consortium (including the Commission Services)
B13: D3.4 | C13: Innovative oxy-carbochlorination concept report | D13: BRGM | E13: R | F13: PU | G13: M18 | J13: EU-RES | K13: Classified Information: RESTREINT UE (Commission Decision 2005/444/EC)
B14: D3.5 | C14: Metal extraction efficiency report | D14: FEhS | E14: R | F14: PU | G14: M20 | J14: EU-CON | K14: Classified Information: CONFIDENTIEL UE (Commission Decision 2005/444/EC)
B15: D3.6 | C15: Pyrometallurgy pilot report | D15: MEFOS | E15: R | F15: CO | G15: M24 | J15: EU-SEC | K15: Classified Information: SECRET UE (Commission Decision 2005/444/EC)
B16: D4.1 | C16: Results of direct leaching performances of non-ferrous slags and bottom ashes | D16: TU Delft | E16: R | F16: PU | G16: M18
B17: D4.2 | C17: Assessment of leaching performances on residues from pyrometallurgy | D17: Chalmers | E17: R | F17: PU | G17: M36
B18: D4.3 | C18: Report on optimized hydrometallurgical processing technologies with characterization of the final products | D18: CEA | E18: R | F18: PU | G18: M36
B19: D5.1 | C19: Characterisation of solid precursor materials | D19: MUL | E19: R | F19: PU | G19: M36
B20: D5.2 | C20: Procedures for enhancing the valorisation potential of solid precursor materials | D20: MUL | E20: R | F20: PU | G20: M40
B21: D5.3 | C21: Valorisation of coarse materials | D21: FEhS | E21: R | F21: PU | G21: M42
B22: D5.4 | C22: Geopolymer mix design | D22: MUL | E22: R | F22: PU | G22: M42
B23: D5.5 | C23: Characterisation of geopolymer products | D23: MUL | E23: R | F23: PU | G23: M46
B24: D6.1 | C24: Preliminary environmental life cycle screening of advanced metal recovery processes | D24: 2-0 LCA | E24: R | F24: PU | G24: M30
B25: D6.2 | C25: Sustainability assessment of advanced metal recovery | D25: 2-0 LCA | E25: R | F25: PU | G25: M48
B26: D6.3 | C26: Preliminary market assessment and impact study on EU supply criticality | D26: LGI | E26: R | F26: PU | G26: M48
B27: D7.1 | C27: Communication and dissemination plan | D27: LGI | E27: R | F27: PU | G27: M3
... B36: D8.5 | C36: Final Advisory Board recommendations | D36: BRGM | E36: R | F36: PU | G36: M48

Sheet Milestones
B2: Milestone | C2: Title | D2: WP(s) | E2: Lead by | F2: Due | G2: Due Date | H2: Output

Sheet GANTT
A1: Leader | B1: Tasks/timing | C1: M1 | D1: M2 | E1: M3 | F1: M4 | G1: M5 | H1: M6 | I1: M7 | J1: M8 | K1: M9 | L1: M10 | M1: M11 | N1: M12 | O1: M13 | P1: M14 | Q1: M15 | R1: M16 | S1: M17 | T1: M18 | U1: M19 | V1: M20 | W1: M21 | X1: M22 | Y1: M23 | Z1: M24 | AA1: M25 | AB1: M26 | AC1: M27 | AD1: M28 | AE1: M29 | AF1: M30 | AG1: M31 | AH1: M32 | AI1: M33 | AJ1: M34 | AK1: M35 | AL1: M36 | AM1: M37 | AN1: M38 | AO1: M39 | AP1: M40 | AQ1: M41 | AR1: M42 | AS1: M43 | AT1: M44 | AU1: M45 | AV1: M46 | AW1: M47 | AX1: M48
B2: WP1 - Baseline: strategies, trends, assessments and forecasts of slags and bottom ashes production/production technologies state | H2: MS1
B3: Task 1.1 Assessment of current status of slag and bottom ash generation
B4: Task 1.2 Inventory of current recycling methods and their effectiveness and capacities
B5: Task 1.3 Inventory of the slag and ash qualities and limitations
B6: Task 1.4 Regulatory assessment and requirements for slag and ash use and disposal | J6: D1.1 D1.2
B7: Task 1.5 Integration, assessment and formulation of detailed research objectives | T7: D1.3
B8: WP2 - Sampling, preparation, screening and characterization Selective smart size reduction, physical concentration | N8: MS2 | Z8: MS3 MS4
B9: Task 2.1 Produce twin samples for each feed
B10: Task 2.2 Detailed mineralogical and chemical characterization of the targeted material | K10: D2.1
B11: Task 2.3 Mechanical preparation (smart size reduction) | N11: D2.2
B12: Task 2.4 Beneficiation and concentration | Z12: D2.3
B13: Task 2.5 Geometallurgical modelling | AV13: D2.4
B14: WP3 - Innovative pyro-metallurgical process | V14: MS5
B15: Task 3.1 Thermodynamic modelling for selection of demonstration cases and processing approaches | N15: D3.1
B16: Task 3.2 Slag modification | T16: D3.2
B17: Task 3.3 Roasting and calcination of the chosen test materials | T17: D3.3
B18: Task 3.4 Selective recovery of metals by innovative oxy-carbo-chlorination | T18: D3.4
B19: Task 3.5 Final metal extraction | V19: D3.5
B20: Task 3.6 Mini pilot demonstration | Z20: D3.6
B21: WP4 - Innovative hydro-metallurgical process | AF21: MS6 | AL21: MS7
B22: Task 4.1 Direct leaching on genuine materials | T22: D4.1
B23: Task 4.2 Leaching of products resulting from conventional thermal treatments
B24: Task 4.3 Leaching of products resulting from carbochlorination
B25: Task 4.4 Metal extraction process from leachates | AL25: D4.2 D4.3
B26: WP5 - Geo-polymerisation
B27: Task 5.1 Characterisation of solid precursor materials
B28: Task 5.2 Pre-treatment of solid precursor materials | AL28: D5.1
B29: Task 5.3 Valorisation of coarse materials and geopolymer mix design | AP29: D5.2 | AR29: D5.3
B30: Task 5.4 Characterisation of geopolymer products | AR30: D5.4 | AV30: D5.5
B31: WP6 - Environmental, economic and social Life Cycle Assessment | AN31: MS8 | AR31: MS9 | AV31: MS10
B32: Task 6.1. Preliminary environmental screening | AF32: D6.1
B33: Task 6.2 Laboratory pilot testing
B34: Task 6.3 Sustainability assessment of advanced metal recovery | AX34: D6.2
B35: Task 6.4 Preliminary market assessment and impact study on EU supply criticality | AX35: D6.3
B36: WP7 - Communication, dissemination and exploitation | T36: MS11 | AR36: MS12
B37: Task 7.1 Communication and general public awareness | E37: D7.1 | F37: D7.2 | AX37: D7.3
B38: Task 7.2 Scientific dissemination
B39: Task 7.3 Clustering with other projects
B40: Task 7.4 Exploitation plan | Z40: D7.4 | AX40: D7.5
B41: WP8 - Management
B42: Task 8.1 Project coordination | C42: D8.1 | D42: D8.2 | F42: D8.3 | H42: PM | N42: PM | T42: PM | Z42: PM | AF42: PM | AL42: PM | AR42: PM | AX42: PM
B43: Task 8.2 Contractual and financial management
B44: Task 8.3 Advisory Board | Z44: D8.4 | AX44: D8.5
D46: Project meeting | H46: Deliverable | K46: Milestone
